BEGIN:VCALENDAR
VERSION:2.0
PRODID:-//転倒予防の方法と運動を普及｜NPO法人神奈川県転倒予防医学研究会 - ECPv6.15.20//NONSGML v1.0//EN
CALSCALE:GREGORIAN
METHOD:PUBLISH
X-WR-CALNAME:転倒予防の方法と運動を普及｜NPO法人神奈川県転倒予防医学研究会
X-ORIGINAL-URL:https://k-tentou.jp
X-WR-CALDESC:転倒予防の方法と運動を普及｜NPO法人神奈川県転倒予防医学研究会 のイベント
REFRESH-INTERVAL;VALUE=DURATION:PT1H
X-Robots-Tag:noindex
X-PUBLISHED-TTL:PT1H
BEGIN:VTIMEZONE
TZID:Asia/Tokyo
BEGIN:STANDARD
TZOFFSETFROM:+0900
TZOFFSETTO:+0900
TZNAME:JST
DTSTART:20250101T000000
END:STANDARD
END:VTIMEZONE
BEGIN:VEVENT
DTSTART;TZID=Asia/Tokyo:20260702T093000
DTEND;TZID=Asia/Tokyo:20260702T123000
DTSTAMP:20260422T041448
CREATED:20260420T054517Z
LAST-MODIFIED:20260420T054517Z
UID:1959-1782984600-1782995400@k-tentou.jp
SUMMARY:青葉GoGoクラブ　2026年7月2日
DESCRIPTION:青葉ＧＯＧＯクラブチラシ2026.7月用
URL:https://k-tentou.jp/event/%e9%9d%92%e8%91%89gogo%e3%82%af%e3%83%a9%e3%83%96%e3%80%802026%e5%b9%b47%e6%9c%882%e6%97%a5/
LOCATION:たまプラーザ地域ケアプラザ\, 石川２丁目１−１５ たまプラーザテラスリンクプラザ 4F\, 横浜市青葉区\, 神奈川県\, 225-0003\, Japan
CATEGORIES:青葉GoGoクラブ
ORGANIZER;CN="%E7%A5%9E%E5%A5%88%E5%B7%9D%E7%9C%8C%E8%BB%A2%E5%80%92%E4%BA%88%E9%98%B2%E5%8C%BB%E5%AD%A6%E7%A0%94%E7%A9%B6%E4%BC%9A":MAILTO:tentou@happy.email.ne.jp
END:VEVENT
BEGIN:VEVENT
DTSTART;TZID=Asia/Tokyo:20260709T093000
DTEND;TZID=Asia/Tokyo:20260709T123000
DTSTAMP:20260422T041448
CREATED:20260420T054657Z
LAST-MODIFIED:20260420T054657Z
UID:1963-1783589400-1783600200@k-tentou.jp
SUMMARY:青葉GoGoクラブ　2026年7月9日
DESCRIPTION:青葉ＧＯＧＯクラブチラシ2026.7月用
URL:https://k-tentou.jp/event/%e9%9d%92%e8%91%89gogo%e3%82%af%e3%83%a9%e3%83%96%e3%80%802026%e5%b9%b47%e6%9c%889%e6%97%a5/
LOCATION:たまプラーザ地域ケアプラザ\, 石川２丁目１−１５ たまプラーザテラスリンクプラザ 4F\, 横浜市青葉区\, 神奈川県\, 225-0003\, Japan
CATEGORIES:青葉GoGoクラブ
ORGANIZER;CN="%E7%A5%9E%E5%A5%88%E5%B7%9D%E7%9C%8C%E8%BB%A2%E5%80%92%E4%BA%88%E9%98%B2%E5%8C%BB%E5%AD%A6%E7%A0%94%E7%A9%B6%E4%BC%9A":MAILTO:tentou@happy.email.ne.jp
END:VEVENT
BEGIN:VEVENT
DTSTART;TZID=Asia/Tokyo:20260713T103000
DTEND;TZID=Asia/Tokyo:20260713T120000
DTSTAMP:20260422T041448
CREATED:20260202T014010Z
LAST-MODIFIED:20260420T053428Z
UID:1802-1783938600-1783944000@k-tentou.jp
SUMMARY:てんとうむしの会
DESCRIPTION:北嶋トレーナーによるハマトレ体操
URL:https://k-tentou.jp/event/1802/
LOCATION:神奈川県
CATEGORIES:てんとうむしの会
END:VEVENT
BEGIN:VEVENT
DTSTART;TZID=Asia/Tokyo:20260716T093000
DTEND;TZID=Asia/Tokyo:20260716T123000
DTSTAMP:20260422T041448
CREATED:20260420T054813Z
LAST-MODIFIED:20260420T054813Z
UID:1965-1784194200-1784205000@k-tentou.jp
SUMMARY:青葉GoGoクラブ　2026年7月16日
DESCRIPTION:青葉ＧＯＧＯクラブチラシ2026.7月用
URL:https://k-tentou.jp/event/%e9%9d%92%e8%91%89gogo%e3%82%af%e3%83%a9%e3%83%96%e3%80%802026%e5%b9%b47%e6%9c%8816%e6%97%a5/
LOCATION:たまプラーザ地域ケアプラザ\, 石川２丁目１−１５ たまプラーザテラスリンクプラザ 4F\, 横浜市青葉区\, 神奈川県\, 225-0003\, Japan
CATEGORIES:青葉GoGoクラブ
ORGANIZER;CN="%E7%A5%9E%E5%A5%88%E5%B7%9D%E7%9C%8C%E8%BB%A2%E5%80%92%E4%BA%88%E9%98%B2%E5%8C%BB%E5%AD%A6%E7%A0%94%E7%A9%B6%E4%BC%9A":MAILTO:tentou@happy.email.ne.jp
END:VEVENT
BEGIN:VEVENT
DTSTART;TZID=Asia/Tokyo:20260723T093000
DTEND;TZID=Asia/Tokyo:20260723T123000
DTSTAMP:20260422T041448
CREATED:20260420T055221Z
LAST-MODIFIED:20260420T055221Z
UID:1967-1784799000-1784809800@k-tentou.jp
SUMMARY:青葉GoGoクラブ　2026年7月23日
DESCRIPTION:青葉ＧＯＧＯクラブチラシ2026.7月用
URL:https://k-tentou.jp/event/%e9%9d%92%e8%91%89gogo%e3%82%af%e3%83%a9%e3%83%96%e3%80%802026%e5%b9%b47%e6%9c%8823%e6%97%a5/
LOCATION:たまプラーザ地域ケアプラザ\, 石川２丁目１−１５ たまプラーザテラスリンクプラザ 4F\, 横浜市青葉区\, 神奈川県\, 225-0003\, Japan
CATEGORIES:青葉GoGoクラブ
ORGANIZER;CN="%E7%A5%9E%E5%A5%88%E5%B7%9D%E7%9C%8C%E8%BB%A2%E5%80%92%E4%BA%88%E9%98%B2%E5%8C%BB%E5%AD%A6%E7%A0%94%E7%A9%B6%E4%BC%9A":MAILTO:tentou@happy.email.ne.jp
END:VEVENT
BEGIN:VEVENT
DTSTART;TZID=Asia/Tokyo:20260730T093000
DTEND;TZID=Asia/Tokyo:20260730T123000
DTSTAMP:20260422T041448
CREATED:20260420T055323Z
LAST-MODIFIED:20260420T055323Z
UID:1969-1785403800-1785414600@k-tentou.jp
SUMMARY:青葉GoGoクラブ　2026年7月30日
DESCRIPTION:青葉ＧＯＧＯクラブチラシ2026.7月用
URL:https://k-tentou.jp/event/%e9%9d%92%e8%91%89gogo%e3%82%af%e3%83%a9%e3%83%96%e3%80%802026%e5%b9%b47%e6%9c%8830%e6%97%a5/
LOCATION:たまプラーザ地域ケアプラザ\, 石川２丁目１−１５ たまプラーザテラスリンクプラザ 4F\, 横浜市青葉区\, 神奈川県\, 225-0003\, Japan
CATEGORIES:青葉GoGoクラブ
ORGANIZER;CN="%E7%A5%9E%E5%A5%88%E5%B7%9D%E7%9C%8C%E8%BB%A2%E5%80%92%E4%BA%88%E9%98%B2%E5%8C%BB%E5%AD%A6%E7%A0%94%E7%A9%B6%E4%BC%9A":MAILTO:tentou@happy.email.ne.jp
END:VEVENT
BEGIN:VEVENT
DTSTART;TZID=Asia/Tokyo:20260810T100000
DTEND;TZID=Asia/Tokyo:20260810T120000
DTSTAMP:20260422T041448
CREATED:20260202T014125Z
LAST-MODIFIED:20260202T014125Z
UID:1804-1786356000-1786363200@k-tentou.jp
SUMMARY:てんとうむしの会
DESCRIPTION:北嶋トレーナーによるハマトレ
URL:https://k-tentou.jp/event/%e3%81%a6%e3%82%93%e3%81%a8%e3%81%86%e3%82%80%e3%81%97%e3%81%ae%e4%bc%9a-6/
LOCATION:神奈川県
CATEGORIES:てんとうむしの会
END:VEVENT
BEGIN:VEVENT
DTSTART;TZID=Asia/Tokyo:20260914T103000
DTEND;TZID=Asia/Tokyo:20260914T120000
DTSTAMP:20260422T041448
CREATED:20260202T014330Z
LAST-MODIFIED:20260202T014330Z
UID:1806-1789381800-1789387200@k-tentou.jp
SUMMARY:てんとうむしの会
DESCRIPTION:本杉トレーナーによるタオル体操
URL:https://k-tentou.jp/event/%e3%81%a6%e3%82%93%e3%81%a8%e3%81%86%e3%82%80%e3%81%97%e3%81%ae%e4%bc%9a-7/
LOCATION:神奈川県
CATEGORIES:てんとうむしの会
END:VEVENT
BEGIN:VEVENT
DTSTART;TZID=Asia/Tokyo:20261019T103000
DTEND;TZID=Asia/Tokyo:20261019T120000
DTSTAMP:20260422T041448
CREATED:20260202T014422Z
LAST-MODIFIED:20260420T053351Z
UID:1808-1792405800-1792411200@k-tentou.jp
SUMMARY:てんとうむしの会
DESCRIPTION:北嶋トレーナーによるハマトレ体操
URL:https://k-tentou.jp/event/%e3%81%a6%e3%82%93%e3%81%a8%e3%81%86%e3%82%80%e3%81%97%e3%81%ae%e4%bc%9a-8/
LOCATION:神奈川県
CATEGORIES:てんとうむしの会
END:VEVENT
BEGIN:VEVENT
DTSTART;TZID=Asia/Tokyo:20261109T103000
DTEND;TZID=Asia/Tokyo:20261109T120000
DTSTAMP:20260422T041448
CREATED:20260202T014508Z
LAST-MODIFIED:20260202T014508Z
UID:1810-1794220200-1794225600@k-tentou.jp
SUMMARY:てんとうむしの会
DESCRIPTION:北嶋トレーナーによるハマトレ
URL:https://k-tentou.jp/event/%e3%81%a6%e3%82%93%e3%81%a8%e3%81%86%e3%82%80%e3%81%97%e3%81%ae%e4%bc%9a-9/
LOCATION:神奈川県
CATEGORIES:てんとうむしの会
END:VEVENT
BEGIN:VEVENT
DTSTART;TZID=Asia/Tokyo:20261214T103000
DTEND;TZID=Asia/Tokyo:20261214T120000
DTSTAMP:20260422T041448
CREATED:20260202T014727Z
LAST-MODIFIED:20260202T014727Z
UID:1812-1797244200-1797249600@k-tentou.jp
SUMMARY:てんとうむしの会
DESCRIPTION:本杉トレーナーによるタオル体操
URL:https://k-tentou.jp/event/%e3%81%a6%e3%82%93%e3%81%a8%e3%81%86%e3%82%80%e3%81%97%e3%81%ae%e4%bc%9a-10/
LOCATION:神奈川県
CATEGORIES:てんとうむしの会
END:VEVENT
BEGIN:VEVENT
DTSTART;TZID=Asia/Tokyo:20270118T103000
DTEND;TZID=Asia/Tokyo:20270118T120000
DTSTAMP:20260422T041448
CREATED:20260202T014904Z
LAST-MODIFIED:20260420T053311Z
UID:1814-1800268200-1800273600@k-tentou.jp
SUMMARY:てんとうむしの会
DESCRIPTION:北嶋トレーナーのハマトレ体操
URL:https://k-tentou.jp/event/%e3%81%a6%e3%82%93%e3%81%a8%e3%81%86%e3%82%80%e3%81%97%e3%81%ae%e4%bc%9a-11/
LOCATION:神奈川県
CATEGORIES:てんとうむしの会
END:VEVENT
BEGIN:VEVENT
DTSTART;TZID=Asia/Tokyo:20270208T103000
DTEND;TZID=Asia/Tokyo:20270208T120000
DTSTAMP:20260422T041448
CREATED:20260202T015041Z
LAST-MODIFIED:20260202T015041Z
UID:1816-1802082600-1802088000@k-tentou.jp
SUMMARY:てんとうむしの会
DESCRIPTION:本杉トレーナーによるタオル体操
URL:https://k-tentou.jp/event/%e3%81%a6%e3%82%93%e3%81%a8%e3%81%86%e3%82%80%e3%81%97%e3%81%ae%e4%bc%9a-12/
LOCATION:神奈川県
CATEGORIES:てんとうむしの会
END:VEVENT
BEGIN:VEVENT
DTSTART;TZID=Asia/Tokyo:20270308T103000
DTEND;TZID=Asia/Tokyo:20270308T120000
DTSTAMP:20260422T041448
CREATED:20260202T015131Z
LAST-MODIFIED:20260202T015131Z
UID:1818-1804501800-1804507200@k-tentou.jp
SUMMARY:てんとうむしの会
DESCRIPTION:北嶋トレーナーによるハマトレ
URL:https://k-tentou.jp/event/%e3%81%a6%e3%82%93%e3%81%a8%e3%81%86%e3%82%80%e3%81%97%e3%81%ae%e4%bc%9a-13/
LOCATION:神奈川県
CATEGORIES:てんとうむしの会
END:VEVENT
END:VCALENDAR