BEGIN:VCALENDAR
VERSION:2.0
PRODID:-//転倒予防の方法と運動を普及｜NPO法人神奈川県転倒予防医学研究会 - ECPv6.15.20//NONSGML v1.0//EN
CALSCALE:GREGORIAN
METHOD:PUBLISH
X-WR-CALNAME:転倒予防の方法と運動を普及｜NPO法人神奈川県転倒予防医学研究会
X-ORIGINAL-URL:https://k-tentou.jp
X-WR-CALDESC:転倒予防の方法と運動を普及｜NPO法人神奈川県転倒予防医学研究会 のイベント
REFRESH-INTERVAL;VALUE=DURATION:PT1H
X-Robots-Tag:noindex
X-PUBLISHED-TTL:PT1H
BEGIN:VTIMEZONE
TZID:Asia/Tokyo
BEGIN:STANDARD
TZOFFSETFROM:+0900
TZOFFSETTO:+0900
TZNAME:JST
DTSTART:20250101T000000
END:STANDARD
END:VTIMEZONE
BEGIN:VEVENT
DTSTART;TZID=Asia/Tokyo:20260305T093000
DTEND;TZID=Asia/Tokyo:20260305T123000
DTSTAMP:20260422T014349
CREATED:20260202T040823Z
LAST-MODIFIED:20260202T061955Z
UID:1834-1772703000-1772713800@k-tentou.jp
SUMMARY:青葉GoGoクラブ
DESCRIPTION:PDF青葉ＧＯＧＯクラブチラシ2026.3月用
URL:https://k-tentou.jp/event/%e9%9d%92%e8%91%89gogo%e3%82%af%e3%83%a9%e3%83%96-49/
LOCATION:たまプラーザ地域ケアプラザ\, 石川２丁目１−１５ たまプラーザテラスリンクプラザ 4F\, 横浜市青葉区\, 神奈川県\, 225-0003\, Japan
CATEGORIES:青葉GoGoクラブ
END:VEVENT
BEGIN:VEVENT
DTSTART;TZID=Asia/Tokyo:20260306T130000
DTEND;TZID=Asia/Tokyo:20260306T140000
DTSTAMP:20260422T014349
CREATED:20260202T040333Z
LAST-MODIFIED:20260202T040333Z
UID:1824-1772802000-1772805600@k-tentou.jp
SUMMARY:転倒予防教室
DESCRIPTION:
URL:https://k-tentou.jp/event/%e8%bb%a2%e5%80%92%e4%ba%88%e9%98%b2%e6%95%99%e5%ae%a4-76/
LOCATION:たまプラーザ地域ケアプラザ\, 石川２丁目１−１５ たまプラーザテラスリンクプラザ 4F\, 横浜市青葉区\, 神奈川県\, 225-0003\, Japan
CATEGORIES:転倒予防教室
END:VEVENT
BEGIN:VEVENT
DTSTART;TZID=Asia/Tokyo:20260309T103000
DTEND;TZID=Asia/Tokyo:20260309T120000
DTSTAMP:20260422T014349
CREATED:20260120T040506Z
LAST-MODIFIED:20260209T065540Z
UID:1772-1773052200-1773057600@k-tentou.jp
SUMMARY:てんとうむしの会
DESCRIPTION:てんとうむしの会2026.3
URL:https://k-tentou.jp/event/%e3%81%a6%e3%82%93%e3%81%a8%e3%81%86%e3%82%80%e3%81%97%e3%81%ae%e4%bc%9a-2/
LOCATION:3丁目カフェ\, 青葉区美しが丘1丁目10−1\, 横浜市\, 神奈川県\, 225-0002\, Japan
CATEGORIES:てんとうむしの会
ORGANIZER;CN="%E7%A5%9E%E5%A5%88%E5%B7%9D%E7%9C%8C%E8%BB%A2%E5%80%92%E4%BA%88%E9%98%B2%E5%8C%BB%E5%AD%A6%E7%A0%94%E7%A9%B6%E4%BC%9A":MAILTO:tentou@happy.email.ne.jp
END:VEVENT
BEGIN:VEVENT
DTSTART;TZID=Asia/Tokyo:20260311T130000
DTEND;TZID=Asia/Tokyo:20260311T140000
DTSTAMP:20260422T014349
CREATED:20260202T040412Z
LAST-MODIFIED:20260202T040412Z
UID:1826-1773234000-1773237600@k-tentou.jp
SUMMARY:転倒予防教室
DESCRIPTION:
URL:https://k-tentou.jp/event/%e8%bb%a2%e5%80%92%e4%ba%88%e9%98%b2%e6%95%99%e5%ae%a4-77/
LOCATION:たまプラーザ地域ケアプラザ\, 石川２丁目１−１５ たまプラーザテラスリンクプラザ 4F\, 横浜市青葉区\, 神奈川県\, 225-0003\, Japan
CATEGORIES:転倒予防教室
END:VEVENT
BEGIN:VEVENT
DTSTART;TZID=Asia/Tokyo:20260312T093000
DTEND;TZID=Asia/Tokyo:20260312T123000
DTSTAMP:20260422T014349
CREATED:20260202T041216Z
LAST-MODIFIED:20260202T041216Z
UID:1836-1773307800-1773318600@k-tentou.jp
SUMMARY:青葉GoGoクラブ
DESCRIPTION:PDF青葉ＧＯＧＯクラブチラシ2026.3月用
URL:https://k-tentou.jp/event/%e9%9d%92%e8%91%89gogo%e3%82%af%e3%83%a9%e3%83%96-50/
LOCATION:たまプラーザ地域ケアプラザ\, 石川２丁目１−１５ たまプラーザテラスリンクプラザ 4F\, 横浜市青葉区\, 神奈川県\, 225-0003\, Japan
CATEGORIES:青葉GoGoクラブ
END:VEVENT
BEGIN:VEVENT
DTSTART;TZID=Asia/Tokyo:20260317T130000
DTEND;TZID=Asia/Tokyo:20260317T140000
DTSTAMP:20260422T014349
CREATED:20260202T040448Z
LAST-MODIFIED:20260202T040448Z
UID:1828-1773752400-1773756000@k-tentou.jp
SUMMARY:転倒予防教室
DESCRIPTION:
URL:https://k-tentou.jp/event/%e8%bb%a2%e5%80%92%e4%ba%88%e9%98%b2%e6%95%99%e5%ae%a4-78/
LOCATION:たまプラーザ地域ケアプラザ\, 石川２丁目１−１５ たまプラーザテラスリンクプラザ 4F\, 横浜市青葉区\, 神奈川県\, 225-0003\, Japan
CATEGORIES:転倒予防教室
END:VEVENT
BEGIN:VEVENT
DTSTART;TZID=Asia/Tokyo:20260319T093000
DTEND;TZID=Asia/Tokyo:20260319T123000
DTSTAMP:20260422T014349
CREATED:20260202T041257Z
LAST-MODIFIED:20260202T041257Z
UID:1840-1773912600-1773923400@k-tentou.jp
SUMMARY:青葉GoGoクラブ
DESCRIPTION:PDF青葉ＧＯＧＯクラブチラシ2026.3月用
URL:https://k-tentou.jp/event/%e9%9d%92%e8%91%89gogo%e3%82%af%e3%83%a9%e3%83%96-51/
LOCATION:たまプラーザ地域ケアプラザ\, 石川２丁目１−１５ たまプラーザテラスリンクプラザ 4F\, 横浜市青葉区\, 神奈川県\, 225-0003\, Japan
CATEGORIES:青葉GoGoクラブ
END:VEVENT
BEGIN:VEVENT
DTSTART;TZID=Asia/Tokyo:20260319T130000
DTEND;TZID=Asia/Tokyo:20260319T140000
DTSTAMP:20260422T014349
CREATED:20260202T040535Z
LAST-MODIFIED:20260202T040535Z
UID:1830-1773925200-1773928800@k-tentou.jp
SUMMARY:転倒予防教室
DESCRIPTION:
URL:https://k-tentou.jp/event/%e8%bb%a2%e5%80%92%e4%ba%88%e9%98%b2%e6%95%99%e5%ae%a4-79/
LOCATION:青葉台東急スクエアSouth-2 7階
CATEGORIES:転倒予防教室
END:VEVENT
BEGIN:VEVENT
DTSTART;TZID=Asia/Tokyo:20260325T130000
DTEND;TZID=Asia/Tokyo:20260325T140000
DTSTAMP:20260422T014349
CREATED:20260202T040616Z
LAST-MODIFIED:20260202T040616Z
UID:1832-1774443600-1774447200@k-tentou.jp
SUMMARY:転倒予防教室
DESCRIPTION:
URL:https://k-tentou.jp/event/%e8%bb%a2%e5%80%92%e4%ba%88%e9%98%b2%e6%95%99%e5%ae%a4-80/
LOCATION:プラーザホール　by iTSCOM\, 青葉区美しが丘１丁目１−２ ゲートプラザ ２F たまプラーザ テラス\, 横浜市\, 神奈川県\, 225-8535\, Japan
CATEGORIES:転倒予防教室
END:VEVENT
BEGIN:VEVENT
DTSTART;TZID=Asia/Tokyo:20260326T093000
DTEND;TZID=Asia/Tokyo:20260326T123000
DTSTAMP:20260422T014349
CREATED:20260202T041353Z
LAST-MODIFIED:20260202T041353Z
UID:1842-1774517400-1774528200@k-tentou.jp
SUMMARY:青葉GoGoクラブ
DESCRIPTION:PDF青葉ＧＯＧＯクラブチラシ2026.3月用
URL:https://k-tentou.jp/event/%e9%9d%92%e8%91%89gogo%e3%82%af%e3%83%a9%e3%83%96-52/
LOCATION:たまプラーザ地域ケアプラザ\, 石川２丁目１−１５ たまプラーザテラスリンクプラザ 4F\, 横浜市青葉区\, 神奈川県\, 225-0003\, Japan
CATEGORIES:青葉GoGoクラブ
END:VEVENT
BEGIN:VEVENT
DTSTART;TZID=Asia/Tokyo:20260401T130000
DTEND;TZID=Asia/Tokyo:20260401T140000
DTSTAMP:20260422T014349
CREATED:20260331T034336Z
LAST-MODIFIED:20260331T035444Z
UID:1904-1775048400-1775052000@k-tentou.jp
SUMMARY:転倒予防教室2026.4.1
DESCRIPTION:
URL:https://k-tentou.jp/event/%e8%bb%a2%e5%80%92%e4%ba%88%e9%98%b2%e6%95%99%e5%ae%a42026-4-1/
LOCATION:神奈川県
CATEGORIES:転倒予防教室
END:VEVENT
BEGIN:VEVENT
DTSTART;TZID=Asia/Tokyo:20260402T093000
DTEND;TZID=Asia/Tokyo:20260402T123000
DTSTAMP:20260422T014349
CREATED:20260216T033330Z
LAST-MODIFIED:20260216T033456Z
UID:1876-1775122200-1775133000@k-tentou.jp
SUMMARY:青葉GoGoクラブ　2026年4月2日
DESCRIPTION:青葉ＧＯＧＯクラブチラシ2026.4月用
URL:https://k-tentou.jp/event/%e9%9d%92%e8%91%89gogo%e3%82%af%e3%83%a9%e3%83%96%e3%80%802026%e5%b9%b44%e6%9c%882%e6%97%a5/
LOCATION:たまプラーザ地域ケアプラザ\, 石川２丁目１−１５ たまプラーザテラスリンクプラザ 4F\, 横浜市青葉区\, 神奈川県\, 225-0003\, Japan
CATEGORIES:青葉GoGoクラブ
ORGANIZER;CN="%E7%A5%9E%E5%A5%88%E5%B7%9D%E7%9C%8C%E8%BB%A2%E5%80%92%E4%BA%88%E9%98%B2%E5%8C%BB%E5%AD%A6%E7%A0%94%E7%A9%B6%E4%BC%9A":MAILTO:tentou@happy.email.ne.jp
END:VEVENT
BEGIN:VEVENT
DTSTART;TZID=Asia/Tokyo:20260408T130000
DTEND;TZID=Asia/Tokyo:20260408T140000
DTSTAMP:20260422T014349
CREATED:20260331T034716Z
LAST-MODIFIED:20260331T034734Z
UID:1908-1775653200-1775656800@k-tentou.jp
SUMMARY:転倒予防教室2026.4.8
DESCRIPTION:
URL:https://k-tentou.jp/event/%e8%bb%a2%e5%80%92%e4%ba%88%e9%98%b2%e6%95%99%e5%ae%a4-75/
LOCATION:たまプラーザ地域ケアプラザ\, 石川２丁目１−１５ たまプラーザテラスリンクプラザ 4F\, 横浜市青葉区\, 神奈川県\, 225-0003\, Japan
CATEGORIES:転倒予防教室
ORGANIZER;CN="%E7%A5%9E%E5%A5%88%E5%B7%9D%E7%9C%8C%E8%BB%A2%E5%80%92%E4%BA%88%E9%98%B2%E5%8C%BB%E5%AD%A6%E7%A0%94%E7%A9%B6%E4%BC%9A":MAILTO:tentou@happy.email.ne.jp
END:VEVENT
BEGIN:VEVENT
DTSTART;TZID=Asia/Tokyo:20260409T093000
DTEND;TZID=Asia/Tokyo:20260409T123000
DTSTAMP:20260422T014349
CREATED:20260216T033651Z
LAST-MODIFIED:20260216T033651Z
UID:1880-1775727000-1775737800@k-tentou.jp
SUMMARY:青葉GoGoクラブ　2026年4月9日
DESCRIPTION:青葉ＧＯＧＯクラブチラシ2026.4月用
URL:https://k-tentou.jp/event/%e9%9d%92%e8%91%89gogo%e3%82%af%e3%83%a9%e3%83%96%e3%80%802026%e5%b9%b44%e6%9c%889%e6%97%a5/
LOCATION:たまプラーザ地域ケアプラザ\, 石川２丁目１−１５ たまプラーザテラスリンクプラザ 4F\, 横浜市青葉区\, 神奈川県\, 225-0003\, Japan
CATEGORIES:青葉GoGoクラブ
ORGANIZER;CN="%E7%A5%9E%E5%A5%88%E5%B7%9D%E7%9C%8C%E8%BB%A2%E5%80%92%E4%BA%88%E9%98%B2%E5%8C%BB%E5%AD%A6%E7%A0%94%E7%A9%B6%E4%BC%9A":MAILTO:tentou@happy.email.ne.jp
END:VEVENT
BEGIN:VEVENT
DTSTART;TZID=Asia/Tokyo:20260410T130000
DTEND;TZID=Asia/Tokyo:20260410T140000
DTSTAMP:20260422T014349
CREATED:20260331T035044Z
LAST-MODIFIED:20260331T035044Z
UID:1912-1775826000-1775829600@k-tentou.jp
SUMMARY:転倒予防教室2026.4.10
DESCRIPTION:
URL:https://k-tentou.jp/event/%e8%bb%a2%e5%80%92%e4%ba%88%e9%98%b2%e6%95%99%e5%ae%a42026-4-10/
LOCATION:青葉台東急スクエアSouth-2 7階
CATEGORIES:転倒予防教室
ORGANIZER;CN="%E7%A5%9E%E5%A5%88%E5%B7%9D%E7%9C%8C%E8%BB%A2%E5%80%92%E4%BA%88%E9%98%B2%E5%8C%BB%E5%AD%A6%E7%A0%94%E7%A9%B6%E4%BC%9A":MAILTO:tentou@happy.email.ne.jp
END:VEVENT
BEGIN:VEVENT
DTSTART;TZID=Asia/Tokyo:20260413T103000
DTEND;TZID=Asia/Tokyo:20260413T120000
DTSTAMP:20260422T014349
CREATED:20260202T013521Z
LAST-MODIFIED:20260226T051813Z
UID:1796-1776076200-1776081600@k-tentou.jp
SUMMARY:てんとうむしの会
DESCRIPTION:T (41)
URL:https://k-tentou.jp/event/%e3%81%a6%e3%82%93%e3%81%a8%e3%81%86%e3%82%80%e3%81%97%e3%81%ae%e4%bc%9a-3/
LOCATION:神奈川県
CATEGORIES:てんとうむしの会
END:VEVENT
BEGIN:VEVENT
DTSTART;TZID=Asia/Tokyo:20260416T093000
DTEND;TZID=Asia/Tokyo:20260416T123000
DTSTAMP:20260422T014349
CREATED:20260216T033752Z
LAST-MODIFIED:20260216T033752Z
UID:1882-1776331800-1776342600@k-tentou.jp
SUMMARY:青葉GoGoクラブ　2026年4月16日
DESCRIPTION:青葉ＧＯＧＯクラブチラシ2026.4月用
URL:https://k-tentou.jp/event/%e9%9d%92%e8%91%89gogo%e3%82%af%e3%83%a9%e3%83%96%e3%80%802026%e5%b9%b44%e6%9c%8816%e6%97%a5/
LOCATION:たまプラーザ地域ケアプラザ\, 石川２丁目１−１５ たまプラーザテラスリンクプラザ 4F\, 横浜市青葉区\, 神奈川県\, 225-0003\, Japan
CATEGORIES:青葉GoGoクラブ
ORGANIZER;CN="%E7%A5%9E%E5%A5%88%E5%B7%9D%E7%9C%8C%E8%BB%A2%E5%80%92%E4%BA%88%E9%98%B2%E5%8C%BB%E5%AD%A6%E7%A0%94%E7%A9%B6%E4%BC%9A":MAILTO:tentou@happy.email.ne.jp
END:VEVENT
BEGIN:VEVENT
DTSTART;TZID=Asia/Tokyo:20260417T130000
DTEND;TZID=Asia/Tokyo:20260417T140000
DTSTAMP:20260422T014349
CREATED:20260331T035154Z
LAST-MODIFIED:20260331T035154Z
UID:1914-1776430800-1776434400@k-tentou.jp
SUMMARY:転倒予防教室2026.4.17
DESCRIPTION:
URL:https://k-tentou.jp/event/%e8%bb%a2%e5%80%92%e4%ba%88%e9%98%b2%e6%95%99%e5%ae%a42026-4-17/
LOCATION:たまプラーザ地域ケアプラザ\, 石川２丁目１−１５ たまプラーザテラスリンクプラザ 4F\, 横浜市青葉区\, 神奈川県\, 225-0003\, Japan
CATEGORIES:転倒予防教室
ORGANIZER;CN="%E7%A5%9E%E5%A5%88%E5%B7%9D%E7%9C%8C%E8%BB%A2%E5%80%92%E4%BA%88%E9%98%B2%E5%8C%BB%E5%AD%A6%E7%A0%94%E7%A9%B6%E4%BC%9A":MAILTO:tentou@happy.email.ne.jp
END:VEVENT
BEGIN:VEVENT
DTSTART;TZID=Asia/Tokyo:20260423T093000
DTEND;TZID=Asia/Tokyo:20260423T123000
DTSTAMP:20260422T014349
CREATED:20260216T033853Z
LAST-MODIFIED:20260216T033853Z
UID:1884-1776936600-1776947400@k-tentou.jp
SUMMARY:青葉GoGoクラブ　2026年4月23日
DESCRIPTION:青葉ＧＯＧＯクラブチラシ2026.4月用
URL:https://k-tentou.jp/event/%e9%9d%92%e8%91%89gogo%e3%82%af%e3%83%a9%e3%83%96%e3%80%802026%e5%b9%b44%e6%9c%8823%e6%97%a5/
LOCATION:たまプラーザ地域ケアプラザ\, 石川２丁目１−１５ たまプラーザテラスリンクプラザ 4F\, 横浜市青葉区\, 神奈川県\, 225-0003\, Japan
CATEGORIES:青葉GoGoクラブ
ORGANIZER;CN="%E7%A5%9E%E5%A5%88%E5%B7%9D%E7%9C%8C%E8%BB%A2%E5%80%92%E4%BA%88%E9%98%B2%E5%8C%BB%E5%AD%A6%E7%A0%94%E7%A9%B6%E4%BC%9A":MAILTO:tentou@happy.email.ne.jp
END:VEVENT
BEGIN:VEVENT
DTSTART;TZID=Asia/Tokyo:20260423T130000
DTEND;TZID=Asia/Tokyo:20260423T140000
DTSTAMP:20260422T014349
CREATED:20260331T035259Z
LAST-MODIFIED:20260331T035259Z
UID:1916-1776949200-1776952800@k-tentou.jp
SUMMARY:転倒予防教室2026.4.23
DESCRIPTION:
URL:https://k-tentou.jp/event/%e8%bb%a2%e5%80%92%e4%ba%88%e9%98%b2%e6%95%99%e5%ae%a42026-4-23/
LOCATION:青葉台東急スクエアSouth-2 7階
CATEGORIES:転倒予防教室
ORGANIZER;CN="%E7%A5%9E%E5%A5%88%E5%B7%9D%E7%9C%8C%E8%BB%A2%E5%80%92%E4%BA%88%E9%98%B2%E5%8C%BB%E5%AD%A6%E7%A0%94%E7%A9%B6%E4%BC%9A":MAILTO:tentou@happy.email.ne.jp
END:VEVENT
BEGIN:VEVENT
DTSTART;TZID=Asia/Tokyo:20260430T093000
DTEND;TZID=Asia/Tokyo:20260430T123000
DTSTAMP:20260422T014349
CREATED:20260216T033945Z
LAST-MODIFIED:20260216T033945Z
UID:1886-1777541400-1777552200@k-tentou.jp
SUMMARY:青葉GoGoクラブ　2026年4月30日
DESCRIPTION:青葉ＧＯＧＯクラブチラシ2026.4月用
URL:https://k-tentou.jp/event/%e9%9d%92%e8%91%89gogo%e3%82%af%e3%83%a9%e3%83%96%e3%80%802026%e5%b9%b44%e6%9c%8830%e6%97%a5/
LOCATION:たまプラーザ地域ケアプラザ\, 石川２丁目１−１５ たまプラーザテラスリンクプラザ 4F\, 横浜市青葉区\, 神奈川県\, 225-0003\, Japan
CATEGORIES:青葉GoGoクラブ
ORGANIZER;CN="%E7%A5%9E%E5%A5%88%E5%B7%9D%E7%9C%8C%E8%BB%A2%E5%80%92%E4%BA%88%E9%98%B2%E5%8C%BB%E5%AD%A6%E7%A0%94%E7%A9%B6%E4%BC%9A":MAILTO:tentou@happy.email.ne.jp
END:VEVENT
BEGIN:VEVENT
DTSTART;TZID=Asia/Tokyo:20260501T130000
DTEND;TZID=Asia/Tokyo:20260501T140000
DTSTAMP:20260422T014349
CREATED:20260331T042610Z
LAST-MODIFIED:20260331T042610Z
UID:1918-1777640400-1777644000@k-tentou.jp
SUMMARY:転倒予防教室2026.5.1
DESCRIPTION:
URL:https://k-tentou.jp/event/%e8%bb%a2%e5%80%92%e4%ba%88%e9%98%b2%e6%95%99%e5%ae%a42026-5-1/
LOCATION:たまプラーザ地域ケアプラザ\, 石川２丁目１−１５ たまプラーザテラスリンクプラザ 4F\, 横浜市青葉区\, 神奈川県\, 225-0003\, Japan
CATEGORIES:転倒予防教室
ORGANIZER;CN="%E7%A5%9E%E5%A5%88%E5%B7%9D%E7%9C%8C%E8%BB%A2%E5%80%92%E4%BA%88%E9%98%B2%E5%8C%BB%E5%AD%A6%E7%A0%94%E7%A9%B6%E4%BC%9A":MAILTO:tentou@happy.email.ne.jp
END:VEVENT
BEGIN:VEVENT
DTSTART;TZID=Asia/Tokyo:20260507T093000
DTEND;TZID=Asia/Tokyo:20260507T123000
DTSTAMP:20260422T014349
CREATED:20260331T043712Z
LAST-MODIFIED:20260331T043712Z
UID:1930-1778146200-1778157000@k-tentou.jp
SUMMARY:青葉GoGoクラブ2026.5.7
DESCRIPTION:
URL:https://k-tentou.jp/event/%e9%9d%92%e8%91%89gogo%e3%82%af%e3%83%a9%e3%83%962026-5-7/
LOCATION:たまプラーザ地域ケアプラザ\, 石川２丁目１−１５ たまプラーザテラスリンクプラザ 4F\, 横浜市青葉区\, 神奈川県\, 225-0003\, Japan
CATEGORIES:青葉GoGoクラブ
ORGANIZER;CN="%E7%A5%9E%E5%A5%88%E5%B7%9D%E7%9C%8C%E8%BB%A2%E5%80%92%E4%BA%88%E9%98%B2%E5%8C%BB%E5%AD%A6%E7%A0%94%E7%A9%B6%E4%BC%9A":MAILTO:tentou@happy.email.ne.jp
END:VEVENT
BEGIN:VEVENT
DTSTART;TZID=Asia/Tokyo:20260508T130000
DTEND;TZID=Asia/Tokyo:20260508T140000
DTSTAMP:20260422T014349
CREATED:20260331T042719Z
LAST-MODIFIED:20260331T042719Z
UID:1920-1778245200-1778248800@k-tentou.jp
SUMMARY:転倒予防教室2026.5.8
DESCRIPTION:
URL:https://k-tentou.jp/event/%e8%bb%a2%e5%80%92%e4%ba%88%e9%98%b2%e6%95%99%e5%ae%a42026-5-8/
LOCATION:青葉台東急スクエアSouth-2 7階
CATEGORIES:転倒予防教室
ORGANIZER;CN="%E7%A5%9E%E5%A5%88%E5%B7%9D%E7%9C%8C%E8%BB%A2%E5%80%92%E4%BA%88%E9%98%B2%E5%8C%BB%E5%AD%A6%E7%A0%94%E7%A9%B6%E4%BC%9A":MAILTO:tentou@happy.email.ne.jp
END:VEVENT
BEGIN:VEVENT
DTSTART;TZID=Asia/Tokyo:20260511T103000
DTEND;TZID=Asia/Tokyo:20260511T120000
DTSTAMP:20260422T014349
CREATED:20260202T013836Z
LAST-MODIFIED:20260226T051657Z
UID:1798-1778495400-1778500800@k-tentou.jp
SUMMARY:てんとうむしの会
DESCRIPTION:T (42)
URL:https://k-tentou.jp/event/%e3%81%a6%e3%82%93%e3%81%a8%e3%81%86%e3%82%80%e3%81%97%e3%81%ae%e4%bc%9a-4/
LOCATION:神奈川県
CATEGORIES:てんとうむしの会
END:VEVENT
BEGIN:VEVENT
DTSTART;TZID=Asia/Tokyo:20260513T130000
DTEND;TZID=Asia/Tokyo:20260513T140000
DTSTAMP:20260422T014349
CREATED:20260331T042847Z
LAST-MODIFIED:20260331T042847Z
UID:1922-1778677200-1778680800@k-tentou.jp
SUMMARY:転倒予防教室2026.5.13
DESCRIPTION:
URL:https://k-tentou.jp/event/%e8%bb%a2%e5%80%92%e4%ba%88%e9%98%b2%e6%95%99%e5%ae%a42026-5-13/
LOCATION:たまプラーザ地域ケアプラザ\, 石川２丁目１−１５ たまプラーザテラスリンクプラザ 4F\, 横浜市青葉区\, 神奈川県\, 225-0003\, Japan
CATEGORIES:転倒予防教室
ORGANIZER;CN="%E7%A5%9E%E5%A5%88%E5%B7%9D%E7%9C%8C%E8%BB%A2%E5%80%92%E4%BA%88%E9%98%B2%E5%8C%BB%E5%AD%A6%E7%A0%94%E7%A9%B6%E4%BC%9A":MAILTO:tentou@happy.email.ne.jp
END:VEVENT
BEGIN:VEVENT
DTSTART;TZID=Asia/Tokyo:20260514T093000
DTEND;TZID=Asia/Tokyo:20260514T123000
DTSTAMP:20260422T014349
CREATED:20260331T043810Z
LAST-MODIFIED:20260331T044550Z
UID:1932-1778751000-1778761800@k-tentou.jp
SUMMARY:青葉GoGoクラブ2026.5.14
DESCRIPTION:青葉ＧＯＧＯクラブチラシ2026.5月用
URL:https://k-tentou.jp/event/%e9%9d%92%e8%91%89gogo%e3%82%af%e3%83%a9%e3%83%962026-5-14/
LOCATION:たまプラーザ地域ケアプラザ\, 石川２丁目１−１５ たまプラーザテラスリンクプラザ 4F\, 横浜市青葉区\, 神奈川県\, 225-0003\, Japan
CATEGORIES:青葉GoGoクラブ
ORGANIZER;CN="%E7%A5%9E%E5%A5%88%E5%B7%9D%E7%9C%8C%E8%BB%A2%E5%80%92%E4%BA%88%E9%98%B2%E5%8C%BB%E5%AD%A6%E7%A0%94%E7%A9%B6%E4%BC%9A":MAILTO:tentou@happy.email.ne.jp
END:VEVENT
BEGIN:VEVENT
DTSTART;TZID=Asia/Tokyo:20260520T130000
DTEND;TZID=Asia/Tokyo:20260520T140000
DTSTAMP:20260422T014349
CREATED:20260331T042952Z
LAST-MODIFIED:20260331T043044Z
UID:1924-1779282000-1779285600@k-tentou.jp
SUMMARY:転倒予防教室2026.5.20
DESCRIPTION:
URL:https://k-tentou.jp/event/%e8%bb%a2%e5%80%92%e4%ba%88%e9%98%b2%e6%95%99%e5%ae%a42026-5-20/
LOCATION:プラーザホール　by iTSCOM\, 青葉区美しが丘１丁目１−２ ゲートプラザ ２F たまプラーザ テラス\, 横浜市\, 神奈川県\, 225-8535\, Japan
CATEGORIES:転倒予防教室
ORGANIZER;CN="%E7%A5%9E%E5%A5%88%E5%B7%9D%E7%9C%8C%E8%BB%A2%E5%80%92%E4%BA%88%E9%98%B2%E5%8C%BB%E5%AD%A6%E7%A0%94%E7%A9%B6%E4%BC%9A":MAILTO:tentou@happy.email.ne.jp
END:VEVENT
BEGIN:VEVENT
DTSTART;TZID=Asia/Tokyo:20260521T093000
DTEND;TZID=Asia/Tokyo:20260521T123000
DTSTAMP:20260422T014349
CREATED:20260331T043913Z
LAST-MODIFIED:20260331T044440Z
UID:1934-1779355800-1779366600@k-tentou.jp
SUMMARY:青葉GoGoクラブ2026.5.21
DESCRIPTION:青葉ＧＯＧＯクラブチラシ2026.5月用
URL:https://k-tentou.jp/event/%e9%9d%92%e8%91%89gogo%e3%82%af%e3%83%a9%e3%83%962026-5-21/
LOCATION:たまプラーザ地域ケアプラザ\, 石川２丁目１−１５ たまプラーザテラスリンクプラザ 4F\, 横浜市青葉区\, 神奈川県\, 225-0003\, Japan
CATEGORIES:青葉GoGoクラブ
ORGANIZER;CN="%E7%A5%9E%E5%A5%88%E5%B7%9D%E7%9C%8C%E8%BB%A2%E5%80%92%E4%BA%88%E9%98%B2%E5%8C%BB%E5%AD%A6%E7%A0%94%E7%A9%B6%E4%BC%9A":MAILTO:tentou@happy.email.ne.jp
END:VEVENT
BEGIN:VEVENT
DTSTART;TZID=Asia/Tokyo:20260528T093000
DTEND;TZID=Asia/Tokyo:20260528T123000
DTSTAMP:20260422T014349
CREATED:20260331T044118Z
LAST-MODIFIED:20260331T044338Z
UID:1936-1779960600-1779971400@k-tentou.jp
SUMMARY:青葉GoGoクラブ2026.5.28
DESCRIPTION:青葉ＧＯＧＯクラブチラシ2026.5月用
URL:https://k-tentou.jp/event/%e9%9d%92%e8%91%89gogo%e3%82%af%e3%83%a9%e3%83%962026-5-28/
LOCATION:たまプラーザ地域ケアプラザ\, 石川２丁目１−１５ たまプラーザテラスリンクプラザ 4F\, 横浜市青葉区\, 神奈川県\, 225-0003\, Japan
CATEGORIES:青葉GoGoクラブ
ORGANIZER;CN="%E7%A5%9E%E5%A5%88%E5%B7%9D%E7%9C%8C%E8%BB%A2%E5%80%92%E4%BA%88%E9%98%B2%E5%8C%BB%E5%AD%A6%E7%A0%94%E7%A9%B6%E4%BC%9A":MAILTO:tentou@happy.email.ne.jp
END:VEVENT
END:VCALENDAR