BEGIN:VCALENDAR
VERSION:2.0
PRODID:-//転倒予防の方法と運動を普及｜NPO法人神奈川県転倒予防医学研究会 - ECPv6.15.20//NONSGML v1.0//EN
CALSCALE:GREGORIAN
METHOD:PUBLISH
X-WR-CALNAME:転倒予防の方法と運動を普及｜NPO法人神奈川県転倒予防医学研究会
X-ORIGINAL-URL:https://k-tentou.jp
X-WR-CALDESC:転倒予防の方法と運動を普及｜NPO法人神奈川県転倒予防医学研究会 のイベント
REFRESH-INTERVAL;VALUE=DURATION:PT1H
X-Robots-Tag:noindex
X-PUBLISHED-TTL:PT1H
BEGIN:VTIMEZONE
TZID:Asia/Tokyo
BEGIN:STANDARD
TZOFFSETFROM:+0900
TZOFFSETTO:+0900
TZNAME:JST
DTSTART:20230101T000000
END:STANDARD
END:VTIMEZONE
BEGIN:VEVENT
DTSTART;TZID=Asia/Tokyo:20251224T130000
DTEND;TZID=Asia/Tokyo:20251224T130000
DTSTAMP:20260422T054300
CREATED:20260117T220934Z
LAST-MODIFIED:20260117T221139Z
UID:1611-1766581200-1766581200@k-tentou.jp
SUMMARY:転倒予防教室
DESCRIPTION:
URL:https://k-tentou.jp/event/%e8%bb%a2%e5%80%92%e4%ba%88%e9%98%b2%e6%95%99%e5%ae%a4-68/
LOCATION:たまプラーザ地域ケアプラザ\, 石川２丁目１−１５ たまプラーザテラスリンクプラザ 4F\, 横浜市青葉区\, 神奈川県\, 225-0003\, Japan
CATEGORIES:転倒予防教室
END:VEVENT
BEGIN:VEVENT
DTSTART;TZID=Asia/Tokyo:20251218T130000
DTEND;TZID=Asia/Tokyo:20251218T130000
DTSTAMP:20260422T054300
CREATED:20260117T220934Z
LAST-MODIFIED:20260117T221139Z
UID:1610-1766062800-1766062800@k-tentou.jp
SUMMARY:転倒予防教室
DESCRIPTION:
URL:https://k-tentou.jp/event/%e8%bb%a2%e5%80%92%e4%ba%88%e9%98%b2%e6%95%99%e5%ae%a4-67/
LOCATION:青葉台東急スクエアSouth-2 7階
CATEGORIES:転倒予防教室
END:VEVENT
BEGIN:VEVENT
DTSTART;TZID=Asia/Tokyo:20251217T130000
DTEND;TZID=Asia/Tokyo:20251217T130000
DTSTAMP:20260422T054300
CREATED:20260117T220934Z
LAST-MODIFIED:20260117T221139Z
UID:1609-1765976400-1765976400@k-tentou.jp
SUMMARY:転倒予防教室
DESCRIPTION:
URL:https://k-tentou.jp/event/%e8%bb%a2%e5%80%92%e4%ba%88%e9%98%b2%e6%95%99%e5%ae%a4-66/
LOCATION:たまプラーザ地域ケアプラザ\, 石川２丁目１−１５ たまプラーザテラスリンクプラザ 4F\, 横浜市青葉区\, 神奈川県\, 225-0003\, Japan
CATEGORIES:転倒予防教室
END:VEVENT
BEGIN:VEVENT
DTSTART;TZID=Asia/Tokyo:20251210T130000
DTEND;TZID=Asia/Tokyo:20251210T130000
DTSTAMP:20260422T054300
CREATED:20260117T220930Z
LAST-MODIFIED:20260117T221139Z
UID:1608-1765371600-1765371600@k-tentou.jp
SUMMARY:転倒予防教室
DESCRIPTION:
URL:https://k-tentou.jp/event/%e8%bb%a2%e5%80%92%e4%ba%88%e9%98%b2%e6%95%99%e5%ae%a4-65/
LOCATION:神奈川県
CATEGORIES:転倒予防教室
END:VEVENT
BEGIN:VEVENT
DTSTART;TZID=Asia/Tokyo:20251204T130000
DTEND;TZID=Asia/Tokyo:20251204T130000
DTSTAMP:20260422T054300
CREATED:20260117T220930Z
LAST-MODIFIED:20260117T221139Z
UID:1607-1764853200-1764853200@k-tentou.jp
SUMMARY:転倒予防教室
DESCRIPTION:
URL:https://k-tentou.jp/event/%e8%bb%a2%e5%80%92%e4%ba%88%e9%98%b2%e6%95%99%e5%ae%a4-64/
LOCATION:青葉台東急スクエアSouth-2 7階
CATEGORIES:転倒予防教室
END:VEVENT
BEGIN:VEVENT
DTSTART;TZID=Asia/Tokyo:20251203T130000
DTEND;TZID=Asia/Tokyo:20251203T130000
DTSTAMP:20260422T054300
CREATED:20260117T220930Z
LAST-MODIFIED:20260117T221139Z
UID:1606-1764766800-1764766800@k-tentou.jp
SUMMARY:転倒予防教室
DESCRIPTION:
URL:https://k-tentou.jp/event/%e8%bb%a2%e5%80%92%e4%ba%88%e9%98%b2%e6%95%99%e5%ae%a4-63/
LOCATION:神奈川県
CATEGORIES:転倒予防教室
END:VEVENT
BEGIN:VEVENT
DTSTART;TZID=Asia/Tokyo:20251128T130000
DTEND;TZID=Asia/Tokyo:20251128T130000
DTSTAMP:20260422T054300
CREATED:20260117T220929Z
LAST-MODIFIED:20260117T221139Z
UID:1604-1764334800-1764334800@k-tentou.jp
SUMMARY:転倒予防教室
DESCRIPTION:
URL:https://k-tentou.jp/event/%e8%bb%a2%e5%80%92%e4%ba%88%e9%98%b2%e6%95%99%e5%ae%a4-62/
LOCATION:神奈川県
CATEGORIES:転倒予防教室
END:VEVENT
BEGIN:VEVENT
DTSTART;TZID=Asia/Tokyo:20251120T130000
DTEND;TZID=Asia/Tokyo:20251120T130000
DTSTAMP:20260422T054300
CREATED:20260117T220927Z
LAST-MODIFIED:20260117T221139Z
UID:1603-1763643600-1763643600@k-tentou.jp
SUMMARY:転倒予防教室
DESCRIPTION:
URL:https://k-tentou.jp/event/%e8%bb%a2%e5%80%92%e4%ba%88%e9%98%b2%e6%95%99%e5%ae%a4-61/
LOCATION:神奈川県
CATEGORIES:転倒予防教室
END:VEVENT
BEGIN:VEVENT
DTSTART;TZID=Asia/Tokyo:20251119T130000
DTEND;TZID=Asia/Tokyo:20251119T130000
DTSTAMP:20260422T054300
CREATED:20260117T220927Z
LAST-MODIFIED:20260117T221139Z
UID:1602-1763557200-1763557200@k-tentou.jp
SUMMARY:転倒予防教室
DESCRIPTION:
URL:https://k-tentou.jp/event/%e8%bb%a2%e5%80%92%e4%ba%88%e9%98%b2%e6%95%99%e5%ae%a4-60/
LOCATION:神奈川県
CATEGORIES:転倒予防教室
END:VEVENT
BEGIN:VEVENT
DTSTART;TZID=Asia/Tokyo:20251114T130000
DTEND;TZID=Asia/Tokyo:20251114T130000
DTSTAMP:20260422T054300
CREATED:20260117T220927Z
LAST-MODIFIED:20260117T221139Z
UID:1601-1763125200-1763125200@k-tentou.jp
SUMMARY:転倒予防教室
DESCRIPTION:
URL:https://k-tentou.jp/event/%e8%bb%a2%e5%80%92%e4%ba%88%e9%98%b2%e6%95%99%e5%ae%a4-59/
LOCATION:神奈川県
CATEGORIES:転倒予防教室
END:VEVENT
BEGIN:VEVENT
DTSTART;TZID=Asia/Tokyo:20251106T130000
DTEND;TZID=Asia/Tokyo:20251106T130000
DTSTAMP:20260422T054300
CREATED:20260117T220927Z
LAST-MODIFIED:20260117T221139Z
UID:1600-1762434000-1762434000@k-tentou.jp
SUMMARY:転倒予防教室
DESCRIPTION:
URL:https://k-tentou.jp/event/%e8%bb%a2%e5%80%92%e4%ba%88%e9%98%b2%e6%95%99%e5%ae%a4-58/
LOCATION:神奈川県
CATEGORIES:転倒予防教室
END:VEVENT
BEGIN:VEVENT
DTSTART;TZID=Asia/Tokyo:20251104T130000
DTEND;TZID=Asia/Tokyo:20251104T130000
DTSTAMP:20260422T054300
CREATED:20260117T220927Z
LAST-MODIFIED:20260117T221139Z
UID:1599-1762261200-1762261200@k-tentou.jp
SUMMARY:転倒予防教室
DESCRIPTION:
URL:https://k-tentou.jp/event/%e8%bb%a2%e5%80%92%e4%ba%88%e9%98%b2%e6%95%99%e5%ae%a4-57/
LOCATION:神奈川県
CATEGORIES:転倒予防教室
END:VEVENT
BEGIN:VEVENT
DTSTART;TZID=Asia/Tokyo:20241030T093000
DTEND;TZID=Asia/Tokyo:20241030T093000
DTSTAMP:20260422T054300
CREATED:20260117T220917Z
LAST-MODIFIED:20260117T221748Z
UID:1598-1730280600-1730280600@k-tentou.jp
SUMMARY:転倒予防教室
DESCRIPTION:
URL:https://k-tentou.jp/event/%e8%bb%a2%e5%80%92%e4%ba%88%e9%98%b2%e6%95%99%e5%ae%a4-56/
LOCATION:たまプラーザ地域ケアプラザ\, 石川２丁目１−１５ たまプラーザテラスリンクプラザ 4F\, 横浜市青葉区\, 神奈川県\, 225-0003\, Japan
CATEGORIES:転倒予防教室
END:VEVENT
BEGIN:VEVENT
DTSTART;TZID=Asia/Tokyo:20241029T130000
DTEND;TZID=Asia/Tokyo:20241029T130000
DTSTAMP:20260422T054300
CREATED:20260117T220917Z
LAST-MODIFIED:20260117T221139Z
UID:1597-1730206800-1730206800@k-tentou.jp
SUMMARY:転倒予防教室
DESCRIPTION:
URL:https://k-tentou.jp/event/%e8%bb%a2%e5%80%92%e4%ba%88%e9%98%b2%e6%95%99%e5%ae%a4-55/
LOCATION:神奈川県
CATEGORIES:転倒予防教室
END:VEVENT
BEGIN:VEVENT
DTSTART;TZID=Asia/Tokyo:20241016T130000
DTEND;TZID=Asia/Tokyo:20241016T130000
DTSTAMP:20260422T054300
CREATED:20260117T220917Z
LAST-MODIFIED:20260117T221139Z
UID:1594-1729083600-1729083600@k-tentou.jp
SUMMARY:転倒予防教室
DESCRIPTION:
URL:https://k-tentou.jp/event/%e8%bb%a2%e5%80%92%e4%ba%88%e9%98%b2%e6%95%99%e5%ae%a4-54/
LOCATION:青葉台東急スクエアSouth-2 7階
CATEGORIES:転倒予防教室
END:VEVENT
BEGIN:VEVENT
DTSTART;TZID=Asia/Tokyo:20241015T130000
DTEND;TZID=Asia/Tokyo:20241015T130000
DTSTAMP:20260422T054300
CREATED:20260117T220910Z
LAST-MODIFIED:20260117T221139Z
UID:1593-1728997200-1728997200@k-tentou.jp
SUMMARY:転倒予防教室
DESCRIPTION:
URL:https://k-tentou.jp/event/%e8%bb%a2%e5%80%92%e4%ba%88%e9%98%b2%e6%95%99%e5%ae%a4-53/
LOCATION:神奈川県
CATEGORIES:転倒予防教室
END:VEVENT
BEGIN:VEVENT
DTSTART;TZID=Asia/Tokyo:20241007T130000
DTEND;TZID=Asia/Tokyo:20241007T130000
DTSTAMP:20260422T054300
CREATED:20260117T220910Z
LAST-MODIFIED:20260117T221139Z
UID:1591-1728306000-1728306000@k-tentou.jp
SUMMARY:転倒予防教室
DESCRIPTION:
URL:https://k-tentou.jp/event/%e8%bb%a2%e5%80%92%e4%ba%88%e9%98%b2%e6%95%99%e5%ae%a4-52/
LOCATION:神奈川県
CATEGORIES:転倒予防教室
END:VEVENT
BEGIN:VEVENT
DTSTART;TZID=Asia/Tokyo:20241002T130000
DTEND;TZID=Asia/Tokyo:20241002T130000
DTSTAMP:20260422T054300
CREATED:20260117T220910Z
LAST-MODIFIED:20260117T221139Z
UID:1589-1727874000-1727874000@k-tentou.jp
SUMMARY:転倒予防教室
DESCRIPTION:
URL:https://k-tentou.jp/event/%e8%bb%a2%e5%80%92%e4%ba%88%e9%98%b2%e6%95%99%e5%ae%a4-51/
LOCATION:青葉台東急スクエアSouth-2 7階
CATEGORIES:転倒予防教室
END:VEVENT
BEGIN:VEVENT
DTSTART;TZID=Asia/Tokyo:20241001T130000
DTEND;TZID=Asia/Tokyo:20241001T130000
DTSTAMP:20260422T054300
CREATED:20260117T220901Z
LAST-MODIFIED:20260117T221139Z
UID:1588-1727787600-1727787600@k-tentou.jp
SUMMARY:転倒予防教室
DESCRIPTION:
URL:https://k-tentou.jp/event/%e8%bb%a2%e5%80%92%e4%ba%88%e9%98%b2%e6%95%99%e5%ae%a4-50/
LOCATION:たまプラーザ地域ケアプラザ\, 石川２丁目１−１５ たまプラーザテラスリンクプラザ 4F\, 横浜市青葉区\, 神奈川県\, 225-0003\, Japan
CATEGORIES:転倒予防教室
END:VEVENT
BEGIN:VEVENT
DTSTART;TZID=Asia/Tokyo:20240924T130000
DTEND;TZID=Asia/Tokyo:20240924T130000
DTSTAMP:20260422T054300
CREATED:20260117T220901Z
LAST-MODIFIED:20260117T221139Z
UID:1586-1727182800-1727182800@k-tentou.jp
SUMMARY:転倒予防教室
DESCRIPTION:
URL:https://k-tentou.jp/event/%e8%bb%a2%e5%80%92%e4%ba%88%e9%98%b2%e6%95%99%e5%ae%a4-49/
LOCATION:たまプラーザ地域ケアプラザ\, 石川２丁目１−１５ たまプラーザテラスリンクプラザ 4F\, 横浜市青葉区\, 神奈川県\, 225-0003\, Japan
CATEGORIES:転倒予防教室
END:VEVENT
BEGIN:VEVENT
DTSTART;TZID=Asia/Tokyo:20240919T130000
DTEND;TZID=Asia/Tokyo:20240919T130000
DTSTAMP:20260422T054300
CREATED:20260117T220900Z
LAST-MODIFIED:20260117T220900Z
UID:1585-1726750800-1726750800@k-tentou.jp
SUMMARY:転倒予防教室
DESCRIPTION:
URL:https://k-tentou.jp/event/%e8%bb%a2%e5%80%92%e4%ba%88%e9%98%b2%e6%95%99%e5%ae%a4-48/
LOCATION:たまプラーザ地域ケアプラザ\, 石川２丁目１−１５ たまプラーザテラスリンクプラザ 4F\, 横浜市青葉区\, 神奈川県\, 225-0003\, Japan
CATEGORIES:転倒予防教室
END:VEVENT
BEGIN:VEVENT
DTSTART;TZID=Asia/Tokyo:20240918T130000
DTEND;TZID=Asia/Tokyo:20240918T130000
DTSTAMP:20260422T054300
CREATED:20260117T220859Z
LAST-MODIFIED:20260117T220859Z
UID:1583-1726664400-1726664400@k-tentou.jp
SUMMARY:転倒予防教室
DESCRIPTION:
URL:https://k-tentou.jp/event/%e8%bb%a2%e5%80%92%e4%ba%88%e9%98%b2%e6%95%99%e5%ae%a4-47/
LOCATION:青葉台東急スクエアSouth-2 7階
CATEGORIES:転倒予防教室
END:VEVENT
BEGIN:VEVENT
DTSTART;TZID=Asia/Tokyo:20240912T130000
DTEND;TZID=Asia/Tokyo:20240912T130000
DTSTAMP:20260422T054300
CREATED:20260117T220859Z
LAST-MODIFIED:20260117T220859Z
UID:1582-1726146000-1726146000@k-tentou.jp
SUMMARY:転倒予防教室
DESCRIPTION:
URL:https://k-tentou.jp/event/%e8%bb%a2%e5%80%92%e4%ba%88%e9%98%b2%e6%95%99%e5%ae%a4-46/
LOCATION:神奈川県
CATEGORIES:転倒予防教室
END:VEVENT
BEGIN:VEVENT
DTSTART;TZID=Asia/Tokyo:20240904T130000
DTEND;TZID=Asia/Tokyo:20240904T130000
DTSTAMP:20260422T054300
CREATED:20260117T220859Z
LAST-MODIFIED:20260117T220859Z
UID:1579-1725454800-1725454800@k-tentou.jp
SUMMARY:転倒予防教室
DESCRIPTION:
URL:https://k-tentou.jp/event/%e8%bb%a2%e5%80%92%e4%ba%88%e9%98%b2%e6%95%99%e5%ae%a4-45/
LOCATION:青葉台東急スクエアSouth-2 7階
CATEGORIES:転倒予防教室
END:VEVENT
BEGIN:VEVENT
DTSTART;TZID=Asia/Tokyo:20240902T130000
DTEND;TZID=Asia/Tokyo:20240902T130000
DTSTAMP:20260422T054300
CREATED:20260117T220858Z
LAST-MODIFIED:20260117T220858Z
UID:1578-1725282000-1725282000@k-tentou.jp
SUMMARY:転倒予防教室
DESCRIPTION:
URL:https://k-tentou.jp/event/%e8%bb%a2%e5%80%92%e4%ba%88%e9%98%b2%e6%95%99%e5%ae%a4-44/
LOCATION:神奈川県
CATEGORIES:転倒予防教室
END:VEVENT
BEGIN:VEVENT
DTSTART;TZID=Asia/Tokyo:20240829T130000
DTEND;TZID=Asia/Tokyo:20240829T130000
DTSTAMP:20260422T054300
CREATED:20260117T220858Z
LAST-MODIFIED:20260117T220858Z
UID:1577-1724936400-1724936400@k-tentou.jp
SUMMARY:転倒予防教室
DESCRIPTION:
URL:https://k-tentou.jp/event/%e8%bb%a2%e5%80%92%e4%ba%88%e9%98%b2%e6%95%99%e5%ae%a4-43/
LOCATION:たまプラーザ地域ケアプラザ\, 石川２丁目１−１５ たまプラーザテラスリンクプラザ 4F\, 横浜市青葉区\, 神奈川県\, 225-0003\, Japan
CATEGORIES:転倒予防教室
END:VEVENT
BEGIN:VEVENT
DTSTART;TZID=Asia/Tokyo:20240821T130000
DTEND;TZID=Asia/Tokyo:20240821T130000
DTSTAMP:20260422T054300
CREATED:20260117T220858Z
LAST-MODIFIED:20260117T220858Z
UID:1574-1724245200-1724245200@k-tentou.jp
SUMMARY:転倒予防教室
DESCRIPTION:
URL:https://k-tentou.jp/event/%e8%bb%a2%e5%80%92%e4%ba%88%e9%98%b2%e6%95%99%e5%ae%a4-42/
LOCATION:青葉台東急スクエアSouth-2 7階
CATEGORIES:転倒予防教室
END:VEVENT
BEGIN:VEVENT
DTSTART;TZID=Asia/Tokyo:20240820T130000
DTEND;TZID=Asia/Tokyo:20240820T130000
DTSTAMP:20260422T054300
CREATED:20260117T220856Z
LAST-MODIFIED:20260117T220856Z
UID:1573-1724158800-1724158800@k-tentou.jp
SUMMARY:転倒予防教室
DESCRIPTION:
URL:https://k-tentou.jp/event/%e8%bb%a2%e5%80%92%e4%ba%88%e9%98%b2%e6%95%99%e5%ae%a4-41/
LOCATION:たまプラーザ地域ケアプラザ\, 石川２丁目１−１５ たまプラーザテラスリンクプラザ 4F\, 横浜市青葉区\, 神奈川県\, 225-0003\, Japan
CATEGORIES:転倒予防教室
END:VEVENT
BEGIN:VEVENT
DTSTART;TZID=Asia/Tokyo:20240813T130000
DTEND;TZID=Asia/Tokyo:20240813T130000
DTSTAMP:20260422T054300
CREATED:20260117T220856Z
LAST-MODIFIED:20260117T220856Z
UID:1572-1723554000-1723554000@k-tentou.jp
SUMMARY:転倒予防教室
DESCRIPTION:
URL:https://k-tentou.jp/event/%e8%bb%a2%e5%80%92%e4%ba%88%e9%98%b2%e6%95%99%e5%ae%a4-40/
LOCATION:たまプラーザ地域ケアプラザ\, 石川２丁目１−１５ たまプラーザテラスリンクプラザ 4F\, 横浜市青葉区\, 神奈川県\, 225-0003\, Japan
CATEGORIES:転倒予防教室
END:VEVENT
BEGIN:VEVENT
DTSTART;TZID=Asia/Tokyo:20240807T130000
DTEND;TZID=Asia/Tokyo:20240807T130000
DTSTAMP:20260422T054300
CREATED:20260117T220856Z
LAST-MODIFIED:20260117T220856Z
UID:1570-1723035600-1723035600@k-tentou.jp
SUMMARY:転倒予防教室
DESCRIPTION:
URL:https://k-tentou.jp/event/%e8%bb%a2%e5%80%92%e4%ba%88%e9%98%b2%e6%95%99%e5%ae%a4-39/
LOCATION:青葉台東急スクエアSouth-2 7階
CATEGORIES:転倒予防教室
END:VEVENT
END:VCALENDAR