BEGIN:VCALENDAR
VERSION:2.0
PRODID:-//転倒予防の方法と運動を普及｜NPO法人神奈川県転倒予防医学研究会 - ECPv6.15.20//NONSGML v1.0//EN
CALSCALE:GREGORIAN
METHOD:PUBLISH
X-WR-CALNAME:転倒予防の方法と運動を普及｜NPO法人神奈川県転倒予防医学研究会
X-ORIGINAL-URL:https://k-tentou.jp
X-WR-CALDESC:転倒予防の方法と運動を普及｜NPO法人神奈川県転倒予防医学研究会 のイベント
REFRESH-INTERVAL;VALUE=DURATION:PT1H
X-Robots-Tag:noindex
X-PUBLISHED-TTL:PT1H
BEGIN:VTIMEZONE
TZID:Asia/Tokyo
BEGIN:STANDARD
TZOFFSETFROM:+0900
TZOFFSETTO:+0900
TZNAME:JST
DTSTART:20230101T000000
END:STANDARD
END:VTIMEZONE
BEGIN:VEVENT
DTSTART;TZID=Asia/Tokyo:20240729T130000
DTEND;TZID=Asia/Tokyo:20240729T130000
DTSTAMP:20260425T114904
CREATED:20260117T220853Z
LAST-MODIFIED:20260117T220853Z
UID:1567-1722258000-1722258000@k-tentou.jp
SUMMARY:転倒予防教室
DESCRIPTION:
URL:https://k-tentou.jp/event/%e8%bb%a2%e5%80%92%e4%ba%88%e9%98%b2%e6%95%99%e5%ae%a4-37/
LOCATION:神奈川県
CATEGORIES:転倒予防教室
END:VEVENT
BEGIN:VEVENT
DTSTART;TZID=Asia/Tokyo:20240723T130000
DTEND;TZID=Asia/Tokyo:20240723T130000
DTSTAMP:20260425T114904
CREATED:20260117T220853Z
LAST-MODIFIED:20260117T220853Z
UID:1565-1721739600-1721739600@k-tentou.jp
SUMMARY:転倒予防教室
DESCRIPTION:
URL:https://k-tentou.jp/event/%e8%bb%a2%e5%80%92%e4%ba%88%e9%98%b2%e6%95%99%e5%ae%a4-36/
LOCATION:たまプラーザ地域ケアプラザ\, 石川２丁目１−１５ たまプラーザテラスリンクプラザ 4F\, 横浜市青葉区\, 神奈川県\, 225-0003\, Japan
CATEGORIES:転倒予防教室
END:VEVENT
BEGIN:VEVENT
DTSTART;TZID=Asia/Tokyo:20240718T130000
DTEND;TZID=Asia/Tokyo:20240718T130000
DTSTAMP:20260425T114904
CREATED:20260117T220853Z
LAST-MODIFIED:20260117T220853Z
UID:1564-1721307600-1721307600@k-tentou.jp
SUMMARY:転倒予防教室
DESCRIPTION:
URL:https://k-tentou.jp/event/%e8%bb%a2%e5%80%92%e4%ba%88%e9%98%b2%e6%95%99%e5%ae%a4-35/
LOCATION:たまプラーザ地域ケアプラザ\, 石川２丁目１−１５ たまプラーザテラスリンクプラザ 4F\, 横浜市青葉区\, 神奈川県\, 225-0003\, Japan
CATEGORIES:転倒予防教室
END:VEVENT
BEGIN:VEVENT
DTSTART;TZID=Asia/Tokyo:20240717T130000
DTEND;TZID=Asia/Tokyo:20240717T130000
DTSTAMP:20260425T114904
CREATED:20260117T220848Z
LAST-MODIFIED:20260117T220848Z
UID:1562-1721221200-1721221200@k-tentou.jp
SUMMARY:転倒予防教室
DESCRIPTION:
URL:https://k-tentou.jp/event/%e8%bb%a2%e5%80%92%e4%ba%88%e9%98%b2%e6%95%99%e5%ae%a4-34/
LOCATION:青葉台東急スクエアSouth-2 7階
CATEGORIES:転倒予防教室
END:VEVENT
BEGIN:VEVENT
DTSTART;TZID=Asia/Tokyo:20240711T130000
DTEND;TZID=Asia/Tokyo:20240711T130000
DTSTAMP:20260425T114904
CREATED:20260117T220848Z
LAST-MODIFIED:20260117T220848Z
UID:1561-1720702800-1720702800@k-tentou.jp
SUMMARY:転倒予防教室
DESCRIPTION:
URL:https://k-tentou.jp/event/%e8%bb%a2%e5%80%92%e4%ba%88%e9%98%b2%e6%95%99%e5%ae%a4-33/
LOCATION:神奈川県
CATEGORIES:転倒予防教室
END:VEVENT
BEGIN:VEVENT
DTSTART;TZID=Asia/Tokyo:20240703T130000
DTEND;TZID=Asia/Tokyo:20240703T130000
DTSTAMP:20260425T114904
CREATED:20260117T220844Z
LAST-MODIFIED:20260117T220844Z
UID:1558-1720011600-1720011600@k-tentou.jp
SUMMARY:転倒予防教室
DESCRIPTION:
URL:https://k-tentou.jp/event/%e8%bb%a2%e5%80%92%e4%ba%88%e9%98%b2%e6%95%99%e5%ae%a4-32/
LOCATION:青葉台東急スクエアSouth-2 7階
CATEGORIES:転倒予防教室
END:VEVENT
BEGIN:VEVENT
DTSTART;TZID=Asia/Tokyo:20240702T130000
DTEND;TZID=Asia/Tokyo:20240702T130000
DTSTAMP:20260425T114904
CREATED:20260117T220844Z
LAST-MODIFIED:20260117T220844Z
UID:1557-1719925200-1719925200@k-tentou.jp
SUMMARY:転倒予防教室
DESCRIPTION:
URL:https://k-tentou.jp/event/%e8%bb%a2%e5%80%92%e4%ba%88%e9%98%b2%e6%95%99%e5%ae%a4-31/
LOCATION:たまプラーザ地域ケアプラザ\, 石川２丁目１−１５ たまプラーザテラスリンクプラザ 4F\, 横浜市青葉区\, 神奈川県\, 225-0003\, Japan
CATEGORIES:転倒予防教室
END:VEVENT
BEGIN:VEVENT
DTSTART;TZID=Asia/Tokyo:20240625T130000
DTEND;TZID=Asia/Tokyo:20240625T130000
DTSTAMP:20260425T114904
CREATED:20260117T220843Z
LAST-MODIFIED:20260117T220843Z
UID:1555-1719320400-1719320400@k-tentou.jp
SUMMARY:転倒予防教室
DESCRIPTION:
URL:https://k-tentou.jp/event/%e8%bb%a2%e5%80%92%e4%ba%88%e9%98%b2%e6%95%99%e5%ae%a4-30/
LOCATION:たまプラーザ地域ケアプラザ\, 石川２丁目１−１５ たまプラーザテラスリンクプラザ 4F\, 横浜市青葉区\, 神奈川県\, 225-0003\, Japan
CATEGORIES:転倒予防教室
END:VEVENT
BEGIN:VEVENT
DTSTART;TZID=Asia/Tokyo:20240619T130000
DTEND;TZID=Asia/Tokyo:20240619T130000
DTSTAMP:20260425T114904
CREATED:20260117T220841Z
LAST-MODIFIED:20260117T220841Z
UID:1553-1718802000-1718802000@k-tentou.jp
SUMMARY:転倒予防教室
DESCRIPTION:
URL:https://k-tentou.jp/event/%e8%bb%a2%e5%80%92%e4%ba%88%e9%98%b2%e6%95%99%e5%ae%a4-29/
LOCATION:青葉台東急スクエアSouth-2 7階
CATEGORIES:転倒予防教室
END:VEVENT
BEGIN:VEVENT
DTSTART;TZID=Asia/Tokyo:20240618T130000
DTEND;TZID=Asia/Tokyo:20240618T130000
DTSTAMP:20260425T114904
CREATED:20260117T220841Z
LAST-MODIFIED:20260117T220841Z
UID:1552-1718715600-1718715600@k-tentou.jp
SUMMARY:転倒予防教室
DESCRIPTION:
URL:https://k-tentou.jp/event/%e8%bb%a2%e5%80%92%e4%ba%88%e9%98%b2%e6%95%99%e5%ae%a4-28/
LOCATION:神奈川県
CATEGORIES:転倒予防教室
END:VEVENT
BEGIN:VEVENT
DTSTART;TZID=Asia/Tokyo:20240613T130000
DTEND;TZID=Asia/Tokyo:20240613T130000
DTSTAMP:20260425T114904
CREATED:20260117T220841Z
LAST-MODIFIED:20260117T220841Z
UID:1551-1718283600-1718283600@k-tentou.jp
SUMMARY:転倒予防教室
DESCRIPTION:
URL:https://k-tentou.jp/event/%e8%bb%a2%e5%80%92%e4%ba%88%e9%98%b2%e6%95%99%e5%ae%a4-27/
LOCATION:神奈川県
CATEGORIES:転倒予防教室
END:VEVENT
BEGIN:VEVENT
DTSTART;TZID=Asia/Tokyo:20240606T130000
DTEND;TZID=Asia/Tokyo:20240606T130000
DTSTAMP:20260425T114904
CREATED:20260117T220841Z
LAST-MODIFIED:20260117T220841Z
UID:1549-1717678800-1717678800@k-tentou.jp
SUMMARY:転倒予防教室
DESCRIPTION:
URL:https://k-tentou.jp/event/%e8%bb%a2%e5%80%92%e4%ba%88%e9%98%b2%e6%95%99%e5%ae%a4-26/
LOCATION:たまプラーザ地域ケアプラザ\, 石川２丁目１−１５ たまプラーザテラスリンクプラザ 4F\, 横浜市青葉区\, 神奈川県\, 225-0003\, Japan
CATEGORIES:転倒予防教室
END:VEVENT
BEGIN:VEVENT
DTSTART;TZID=Asia/Tokyo:20240605T130000
DTEND;TZID=Asia/Tokyo:20240605T130000
DTSTAMP:20260425T114904
CREATED:20260117T220839Z
LAST-MODIFIED:20260117T220839Z
UID:1547-1717592400-1717592400@k-tentou.jp
SUMMARY:転倒予防教室
DESCRIPTION:
URL:https://k-tentou.jp/event/%e8%bb%a2%e5%80%92%e4%ba%88%e9%98%b2%e6%95%99%e5%ae%a4-25/
LOCATION:青葉台東急スクエアSouth-2 7階
CATEGORIES:転倒予防教室
END:VEVENT
BEGIN:VEVENT
DTSTART;TZID=Asia/Tokyo:20240530T130000
DTEND;TZID=Asia/Tokyo:20240530T130000
DTSTAMP:20260425T114904
CREATED:20260117T220839Z
LAST-MODIFIED:20260117T220839Z
UID:1546-1717074000-1717074000@k-tentou.jp
SUMMARY:転倒予防教室
DESCRIPTION:
URL:https://k-tentou.jp/event/%e8%bb%a2%e5%80%92%e4%ba%88%e9%98%b2%e6%95%99%e5%ae%a4-24/
LOCATION:神奈川県
CATEGORIES:転倒予防教室
END:VEVENT
BEGIN:VEVENT
DTSTART;TZID=Asia/Tokyo:20240520T130000
DTEND;TZID=Asia/Tokyo:20240520T130000
DTSTAMP:20260425T114904
CREATED:20260117T220755Z
LAST-MODIFIED:20260117T220755Z
UID:1543-1716210000-1716210000@k-tentou.jp
SUMMARY:転倒予防教室
DESCRIPTION:
URL:https://k-tentou.jp/event/%e8%bb%a2%e5%80%92%e4%ba%88%e9%98%b2%e6%95%99%e5%ae%a4-23/
LOCATION:たまプラーザ地域ケアプラザ\, 石川２丁目１−１５ たまプラーザテラスリンクプラザ 4F\, 横浜市青葉区\, 神奈川県\, 225-0003\, Japan
CATEGORIES:転倒予防教室
END:VEVENT
BEGIN:VEVENT
DTSTART;TZID=Asia/Tokyo:20240515T130000
DTEND;TZID=Asia/Tokyo:20240515T130000
DTSTAMP:20260425T114904
CREATED:20260117T220754Z
LAST-MODIFIED:20260117T220754Z
UID:1541-1715778000-1715778000@k-tentou.jp
SUMMARY:転倒予防教室
DESCRIPTION:
URL:https://k-tentou.jp/event/%e8%bb%a2%e5%80%92%e4%ba%88%e9%98%b2%e6%95%99%e5%ae%a4-22/
LOCATION:青葉台東急スクエアSouth-2 7階
CATEGORIES:転倒予防教室
END:VEVENT
BEGIN:VEVENT
DTSTART;TZID=Asia/Tokyo:20240514T130000
DTEND;TZID=Asia/Tokyo:20240514T130000
DTSTAMP:20260425T114904
CREATED:20260117T220754Z
LAST-MODIFIED:20260117T220754Z
UID:1540-1715691600-1715691600@k-tentou.jp
SUMMARY:転倒予防教室
DESCRIPTION:
URL:https://k-tentou.jp/event/%e8%bb%a2%e5%80%92%e4%ba%88%e9%98%b2%e6%95%99%e5%ae%a4-21/
LOCATION:青葉台地域ケアプラザ
CATEGORIES:転倒予防教室
END:VEVENT
BEGIN:VEVENT
DTSTART;TZID=Asia/Tokyo:20240507T130000
DTEND;TZID=Asia/Tokyo:20240507T130000
DTSTAMP:20260425T114904
CREATED:20260117T220745Z
LAST-MODIFIED:20260117T220745Z
UID:1538-1715086800-1715086800@k-tentou.jp
SUMMARY:転倒予防教室
DESCRIPTION:
URL:https://k-tentou.jp/event/%e8%bb%a2%e5%80%92%e4%ba%88%e9%98%b2%e6%95%99%e5%ae%a4-20/
LOCATION:たまプラーザ地域ケアプラザ\, 石川２丁目１−１５ たまプラーザテラスリンクプラザ 4F\, 横浜市青葉区\, 神奈川県\, 225-0003\, Japan
CATEGORIES:転倒予防教室
END:VEVENT
BEGIN:VEVENT
DTSTART;TZID=Asia/Tokyo:20240501T130000
DTEND;TZID=Asia/Tokyo:20240501T130000
DTSTAMP:20260425T114904
CREATED:20260117T220744Z
LAST-MODIFIED:20260117T220744Z
UID:1537-1714568400-1714568400@k-tentou.jp
SUMMARY:転倒予防教室
DESCRIPTION:
URL:https://k-tentou.jp/event/%e8%bb%a2%e5%80%92%e4%ba%88%e9%98%b2%e6%95%99%e5%ae%a4-19/
LOCATION:青葉台東急スクエアSouth-2 7階
CATEGORIES:転倒予防教室
END:VEVENT
BEGIN:VEVENT
DTSTART;TZID=Asia/Tokyo:20240430T130000
DTEND;TZID=Asia/Tokyo:20240430T130000
DTSTAMP:20260425T114904
CREATED:20260117T220744Z
LAST-MODIFIED:20260117T220744Z
UID:1536-1714482000-1714482000@k-tentou.jp
SUMMARY:転倒予防教室
DESCRIPTION:
URL:https://k-tentou.jp/event/%e8%bb%a2%e5%80%92%e4%ba%88%e9%98%b2%e6%95%99%e5%ae%a4-18/
LOCATION:たまプラーザ地域ケアプラザ\, 石川２丁目１−１５ たまプラーザテラスリンクプラザ 4F\, 横浜市青葉区\, 神奈川県\, 225-0003\, Japan
CATEGORIES:転倒予防教室
END:VEVENT
BEGIN:VEVENT
DTSTART;TZID=Asia/Tokyo:20240423T130000
DTEND;TZID=Asia/Tokyo:20240423T130000
DTSTAMP:20260425T114904
CREATED:20260117T220744Z
LAST-MODIFIED:20260117T220744Z
UID:1534-1713877200-1713877200@k-tentou.jp
SUMMARY:転倒予防教室
DESCRIPTION:
URL:https://k-tentou.jp/event/%e8%bb%a2%e5%80%92%e4%ba%88%e9%98%b2%e6%95%99%e5%ae%a4-17/
LOCATION:神奈川県
CATEGORIES:転倒予防教室
END:VEVENT
BEGIN:VEVENT
DTSTART;TZID=Asia/Tokyo:20240417T130000
DTEND;TZID=Asia/Tokyo:20240417T130000
DTSTAMP:20260425T114904
CREATED:20260117T220734Z
LAST-MODIFIED:20260117T220734Z
UID:1532-1713358800-1713358800@k-tentou.jp
SUMMARY:転倒予防教室
DESCRIPTION:
URL:https://k-tentou.jp/event/%e8%bb%a2%e5%80%92%e4%ba%88%e9%98%b2%e6%95%99%e5%ae%a4-16/
LOCATION:青葉台東急スクエアSouth-2 7階
CATEGORIES:転倒予防教室
END:VEVENT
BEGIN:VEVENT
DTSTART;TZID=Asia/Tokyo:20240409T130000
DTEND;TZID=Asia/Tokyo:20240409T130000
DTSTAMP:20260425T114904
CREATED:20260117T220734Z
LAST-MODIFIED:20260117T220734Z
UID:1530-1712667600-1712667600@k-tentou.jp
SUMMARY:転倒予防教室
DESCRIPTION:
URL:https://k-tentou.jp/event/%e8%bb%a2%e5%80%92%e4%ba%88%e9%98%b2%e6%95%99%e5%ae%a4-15/
LOCATION:たまプラーザ地域ケアプラザ\, 石川２丁目１−１５ たまプラーザテラスリンクプラザ 4F\, 横浜市青葉区\, 神奈川県\, 225-0003\, Japan
CATEGORIES:転倒予防教室
END:VEVENT
BEGIN:VEVENT
DTSTART;TZID=Asia/Tokyo:20240403T130000
DTEND;TZID=Asia/Tokyo:20240403T130000
DTSTAMP:20260425T114904
CREATED:20260117T220725Z
LAST-MODIFIED:20260117T220725Z
UID:1528-1712149200-1712149200@k-tentou.jp
SUMMARY:転倒予防教室
DESCRIPTION:
URL:https://k-tentou.jp/event/%e8%bb%a2%e5%80%92%e4%ba%88%e9%98%b2%e6%95%99%e5%ae%a4-14/
LOCATION:青葉台東急スクエアSouth-2 7階
CATEGORIES:転倒予防教室
END:VEVENT
BEGIN:VEVENT
DTSTART;TZID=Asia/Tokyo:20240402T130000
DTEND;TZID=Asia/Tokyo:20240402T130000
DTSTAMP:20260425T114904
CREATED:20260117T220724Z
LAST-MODIFIED:20260117T220724Z
UID:1527-1712062800-1712062800@k-tentou.jp
SUMMARY:転倒予防教室
DESCRIPTION:
URL:https://k-tentou.jp/event/%e8%bb%a2%e5%80%92%e4%ba%88%e9%98%b2%e6%95%99%e5%ae%a4-13/
LOCATION:たまプラーザ地域ケアプラザ\, 石川２丁目１−１５ たまプラーザテラスリンクプラザ 4F\, 横浜市青葉区\, 神奈川県\, 225-0003\, Japan
CATEGORIES:転倒予防教室
END:VEVENT
BEGIN:VEVENT
DTSTART;TZID=Asia/Tokyo:20240319T130000
DTEND;TZID=Asia/Tokyo:20240319T130000
DTSTAMP:20260425T114904
CREATED:20260117T220724Z
LAST-MODIFIED:20260117T220724Z
UID:1525-1710853200-1710853200@k-tentou.jp
SUMMARY:転倒予防教室
DESCRIPTION:
URL:https://k-tentou.jp/event/%e8%bb%a2%e5%80%92%e4%ba%88%e9%98%b2%e6%95%99%e5%ae%a4-12/
LOCATION:たまプラーザ地域ケアプラザ\, 石川２丁目１−１５ たまプラーザテラスリンクプラザ 4F\, 横浜市青葉区\, 神奈川県\, 225-0003\, Japan
CATEGORIES:転倒予防教室
END:VEVENT
BEGIN:VEVENT
DTSTART;TZID=Asia/Tokyo:20240312T130000
DTEND;TZID=Asia/Tokyo:20240312T130000
DTSTAMP:20260425T114904
CREATED:20260117T220719Z
LAST-MODIFIED:20260117T220719Z
UID:1523-1710248400-1710248400@k-tentou.jp
SUMMARY:転倒予防教室
DESCRIPTION:
URL:https://k-tentou.jp/event/%e8%bb%a2%e5%80%92%e4%ba%88%e9%98%b2%e6%95%99%e5%ae%a4-11/
LOCATION:たまプラーザ地域ケアプラザ\, 石川２丁目１−１５ たまプラーザテラスリンクプラザ 4F\, 横浜市青葉区\, 神奈川県\, 225-0003\, Japan
CATEGORIES:転倒予防教室
END:VEVENT
BEGIN:VEVENT
DTSTART;TZID=Asia/Tokyo:20240307T130000
DTEND;TZID=Asia/Tokyo:20240307T130000
DTSTAMP:20260425T114904
CREATED:20260117T220719Z
LAST-MODIFIED:20260117T220719Z
UID:1522-1709816400-1709816400@k-tentou.jp
SUMMARY:転倒予防教室
DESCRIPTION:
URL:https://k-tentou.jp/event/%e8%bb%a2%e5%80%92%e4%ba%88%e9%98%b2%e6%95%99%e5%ae%a4-10/
LOCATION:たまプラーザ地域ケアプラザ\, 石川２丁目１−１５ たまプラーザテラスリンクプラザ 4F\, 横浜市青葉区\, 神奈川県\, 225-0003\, Japan
CATEGORIES:転倒予防教室
END:VEVENT
BEGIN:VEVENT
DTSTART;TZID=Asia/Tokyo:20240304T130000
DTEND;TZID=Asia/Tokyo:20240304T130000
DTSTAMP:20260425T114904
CREATED:20260117T220719Z
LAST-MODIFIED:20260117T220719Z
UID:1520-1709557200-1709557200@k-tentou.jp
SUMMARY:転倒予防教室
DESCRIPTION:
URL:https://k-tentou.jp/event/%e8%bb%a2%e5%80%92%e4%ba%88%e9%98%b2%e6%95%99%e5%ae%a4-9/
LOCATION:青葉台地域ケアプラザ
CATEGORIES:転倒予防教室
END:VEVENT
BEGIN:VEVENT
DTSTART;TZID=Asia/Tokyo:20240226T130000
DTEND;TZID=Asia/Tokyo:20240226T130000
DTSTAMP:20260425T114904
CREATED:20260117T220706Z
LAST-MODIFIED:20260117T220706Z
UID:1517-1708952400-1708952400@k-tentou.jp
SUMMARY:転倒予防教室
DESCRIPTION:
URL:https://k-tentou.jp/event/%e8%bb%a2%e5%80%92%e4%ba%88%e9%98%b2%e6%95%99%e5%ae%a4-8/
LOCATION:たまプラーザ地域ケアプラザ\, 石川２丁目１−１５ たまプラーザテラスリンクプラザ 4F\, 横浜市青葉区\, 神奈川県\, 225-0003\, Japan
CATEGORIES:転倒予防教室
END:VEVENT
END:VCALENDAR