BEGIN:VCALENDAR
VERSION:2.0
PRODID:-//転倒予防の方法と運動を普及｜NPO法人神奈川県転倒予防医学研究会 - ECPv6.15.20//NONSGML v1.0//EN
CALSCALE:GREGORIAN
METHOD:PUBLISH
X-WR-CALNAME:転倒予防の方法と運動を普及｜NPO法人神奈川県転倒予防医学研究会
X-ORIGINAL-URL:https://k-tentou.jp
X-WR-CALDESC:転倒予防の方法と運動を普及｜NPO法人神奈川県転倒予防医学研究会 のイベント
REFRESH-INTERVAL;VALUE=DURATION:PT1H
X-Robots-Tag:noindex
X-PUBLISHED-TTL:PT1H
BEGIN:VTIMEZONE
TZID:Asia/Tokyo
BEGIN:STANDARD
TZOFFSETFROM:+0900
TZOFFSETTO:+0900
TZNAME:JST
DTSTART:20230101T000000
END:STANDARD
END:VTIMEZONE
BEGIN:VEVENT
DTSTART;TZID=Asia/Tokyo:20260129T093000
DTEND;TZID=Asia/Tokyo:20260129T123000
DTSTAMP:20260422T042333
CREATED:20260120T034041Z
LAST-MODIFIED:20260120T035342Z
UID:1752-1769679000-1769689800@k-tentou.jp
SUMMARY:青葉GoGoクラブ
DESCRIPTION:青葉ＧＯＧＯクラブチラシ2026.1月用青葉ＧＯＧＯクラブチラシ2026.1月用
URL:https://k-tentou.jp/event/%e9%9d%92%e8%91%89gogo%e3%82%af%e3%83%a9%e3%83%96-44/
LOCATION:たまプラーザ地域ケアプラザ\, 石川２丁目１−１５ たまプラーザテラスリンクプラザ 4F\, 横浜市青葉区\, 神奈川県\, 225-0003\, Japan
CATEGORIES:青葉GoGoクラブ
ORGANIZER;CN="%E7%A5%9E%E5%A5%88%E5%B7%9D%E7%9C%8C%E8%BB%A2%E5%80%92%E4%BA%88%E9%98%B2%E5%8C%BB%E5%AD%A6%E7%A0%94%E7%A9%B6%E4%BC%9A":MAILTO:tentou@happy.email.ne.jp
END:VEVENT
BEGIN:VEVENT
DTSTART;TZID=Asia/Tokyo:20260122T093000
DTEND;TZID=Asia/Tokyo:20260122T123000
DTSTAMP:20260422T042333
CREATED:20260120T033842Z
LAST-MODIFIED:20260120T035305Z
UID:1749-1769074200-1769085000@k-tentou.jp
SUMMARY:青葉GoGoクラブ
DESCRIPTION:青葉ＧＯＧＯクラブチラシ2026.1月用
URL:https://k-tentou.jp/event/%e9%9d%92%e8%91%89gogo%e3%82%af%e3%83%a9%e3%83%96-43/
LOCATION:たまプラーザ地域ケアプラザ\, 石川２丁目１−１５ たまプラーザテラスリンクプラザ 4F\, 横浜市青葉区\, 神奈川県\, 225-0003\, Japan
CATEGORIES:青葉GoGoクラブ
ORGANIZER;CN="%E7%A5%9E%E5%A5%88%E5%B7%9D%E7%9C%8C%E8%BB%A2%E5%80%92%E4%BA%88%E9%98%B2%E5%8C%BB%E5%AD%A6%E7%A0%94%E7%A9%B6%E4%BC%9A":MAILTO:tentou@happy.email.ne.jp
END:VEVENT
BEGIN:VEVENT
DTSTART;TZID=Asia/Tokyo:20260115T093000
DTEND;TZID=Asia/Tokyo:20260115T123000
DTSTAMP:20260422T042333
CREATED:20260120T033542Z
LAST-MODIFIED:20260120T033542Z
UID:1745-1768469400-1768480200@k-tentou.jp
SUMMARY:青葉GoGoクラブ
DESCRIPTION:青葉ＧＯＧＯクラブチラシ2026.1月用
URL:https://k-tentou.jp/event/%e9%9d%92%e8%91%89gogo%e3%82%af%e3%83%a9%e3%83%96-41/
LOCATION:たまプラーザ地域ケアプラザ\, 石川２丁目１−１５ たまプラーザテラスリンクプラザ 4F\, 横浜市青葉区\, 神奈川県\, 225-0003\, Japan
CATEGORIES:青葉GoGoクラブ
ORGANIZER;CN="%E7%A5%9E%E5%A5%88%E5%B7%9D%E7%9C%8C%E8%BB%A2%E5%80%92%E4%BA%88%E9%98%B2%E5%8C%BB%E5%AD%A6%E7%A0%94%E7%A9%B6%E4%BC%9A":MAILTO:tentou@happy.email.ne.jp
END:VEVENT
BEGIN:VEVENT
DTSTART;TZID=Asia/Tokyo:20260108T093000
DTEND;TZID=Asia/Tokyo:20260108T123000
DTSTAMP:20260422T042333
CREATED:20260120T033713Z
LAST-MODIFIED:20260120T033713Z
UID:1747-1767864600-1767875400@k-tentou.jp
SUMMARY:青葉GoGoクラブ
DESCRIPTION:青葉ＧＯＧＯクラブチラシ2026.1月用
URL:https://k-tentou.jp/event/%e9%9d%92%e8%91%89gogo%e3%82%af%e3%83%a9%e3%83%96-42/
LOCATION:たまプラーザ地域ケアプラザ\, 石川２丁目１−１５ たまプラーザテラスリンクプラザ 4F\, 横浜市青葉区\, 神奈川県\, 225-0003\, Japan
CATEGORIES:青葉GoGoクラブ
ORGANIZER;CN="%E7%A5%9E%E5%A5%88%E5%B7%9D%E7%9C%8C%E8%BB%A2%E5%80%92%E4%BA%88%E9%98%B2%E5%8C%BB%E5%AD%A6%E7%A0%94%E7%A9%B6%E4%BC%9A":MAILTO:tentou@happy.email.ne.jp
END:VEVENT
BEGIN:VEVENT
DTSTART;TZID=Asia/Tokyo:20241023T093000
DTEND;TZID=Asia/Tokyo:20241023T093000
DTSTAMP:20260422T042333
CREATED:20260117T220917Z
LAST-MODIFIED:20260117T221209Z
UID:1596-1729675800-1729675800@k-tentou.jp
SUMMARY:青葉GoGoクラブ
DESCRIPTION:
URL:https://k-tentou.jp/event/%e9%9d%92%e8%91%89gogo%e3%82%af%e3%83%a9%e3%83%96-39/
LOCATION:たまプラーザ地域ケアプラザ\, 石川２丁目１−１５ たまプラーザテラスリンクプラザ 4F\, 横浜市青葉区\, 神奈川県\, 225-0003\, Japan
CATEGORIES:青葉GoGoクラブ
END:VEVENT
BEGIN:VEVENT
DTSTART;TZID=Asia/Tokyo:20241016T093000
DTEND;TZID=Asia/Tokyo:20241016T093000
DTSTAMP:20260422T042333
CREATED:20260117T220917Z
LAST-MODIFIED:20260117T221209Z
UID:1595-1729071000-1729071000@k-tentou.jp
SUMMARY:青葉GoGoクラブ
DESCRIPTION:
URL:https://k-tentou.jp/event/%e9%9d%92%e8%91%89gogo%e3%82%af%e3%83%a9%e3%83%96-38/
LOCATION:たまプラーザ地域ケアプラザ\, 石川２丁目１−１５ たまプラーザテラスリンクプラザ 4F\, 横浜市青葉区\, 神奈川県\, 225-0003\, Japan
CATEGORIES:青葉GoGoクラブ
END:VEVENT
BEGIN:VEVENT
DTSTART;TZID=Asia/Tokyo:20241009T093000
DTEND;TZID=Asia/Tokyo:20241009T093000
DTSTAMP:20260422T042333
CREATED:20260117T220910Z
LAST-MODIFIED:20260117T221209Z
UID:1592-1728466200-1728466200@k-tentou.jp
SUMMARY:青葉GoGoクラブ
DESCRIPTION:
URL:https://k-tentou.jp/event/%e9%9d%92%e8%91%89gogo%e3%82%af%e3%83%a9%e3%83%96-37/
LOCATION:たまプラーザ地域ケアプラザ\, 石川２丁目１−１５ たまプラーザテラスリンクプラザ 4F\, 横浜市青葉区\, 神奈川県\, 225-0003\, Japan
CATEGORIES:青葉GoGoクラブ
END:VEVENT
BEGIN:VEVENT
DTSTART;TZID=Asia/Tokyo:20241002T093000
DTEND;TZID=Asia/Tokyo:20241002T093000
DTSTAMP:20260422T042333
CREATED:20260117T220910Z
LAST-MODIFIED:20260117T221209Z
UID:1590-1727861400-1727861400@k-tentou.jp
SUMMARY:青葉GoGoクラブ
DESCRIPTION:
URL:https://k-tentou.jp/event/%e9%9d%92%e8%91%89gogo%e3%82%af%e3%83%a9%e3%83%96-36/
LOCATION:たまプラーザ地域ケアプラザ\, 石川２丁目１−１５ たまプラーザテラスリンクプラザ 4F\, 横浜市青葉区\, 神奈川県\, 225-0003\, Japan
CATEGORIES:青葉GoGoクラブ
END:VEVENT
BEGIN:VEVENT
DTSTART;TZID=Asia/Tokyo:20240925T093000
DTEND;TZID=Asia/Tokyo:20240925T093000
DTSTAMP:20260422T042333
CREATED:20260117T220901Z
LAST-MODIFIED:20260117T221209Z
UID:1587-1727256600-1727256600@k-tentou.jp
SUMMARY:青葉GoGoクラブ
DESCRIPTION:
URL:https://k-tentou.jp/event/%e9%9d%92%e8%91%89gogo%e3%82%af%e3%83%a9%e3%83%96-35/
LOCATION:たまプラーザ地域ケアプラザ\, 石川２丁目１−１５ たまプラーザテラスリンクプラザ 4F\, 横浜市青葉区\, 神奈川県\, 225-0003\, Japan
CATEGORIES:青葉GoGoクラブ
END:VEVENT
BEGIN:VEVENT
DTSTART;TZID=Asia/Tokyo:20240918T093000
DTEND;TZID=Asia/Tokyo:20240918T093000
DTSTAMP:20260422T042333
CREATED:20260117T220900Z
LAST-MODIFIED:20260117T221209Z
UID:1584-1726651800-1726651800@k-tentou.jp
SUMMARY:青葉GoGoクラブ
DESCRIPTION:
URL:https://k-tentou.jp/event/%e9%9d%92%e8%91%89gogo%e3%82%af%e3%83%a9%e3%83%96-34/
LOCATION:たまプラーザ地域ケアプラザ\, 石川２丁目１−１５ たまプラーザテラスリンクプラザ 4F\, 横浜市青葉区\, 神奈川県\, 225-0003\, Japan
CATEGORIES:青葉GoGoクラブ
END:VEVENT
BEGIN:VEVENT
DTSTART;TZID=Asia/Tokyo:20240911T093000
DTEND;TZID=Asia/Tokyo:20240911T093000
DTSTAMP:20260422T042333
CREATED:20260117T220859Z
LAST-MODIFIED:20260117T221209Z
UID:1581-1726047000-1726047000@k-tentou.jp
SUMMARY:青葉GoGoクラブ
DESCRIPTION:
URL:https://k-tentou.jp/event/%e9%9d%92%e8%91%89gogo%e3%82%af%e3%83%a9%e3%83%96-33/
LOCATION:たまプラーザ地域ケアプラザ\, 石川２丁目１−１５ たまプラーザテラスリンクプラザ 4F\, 横浜市青葉区\, 神奈川県\, 225-0003\, Japan
CATEGORIES:青葉GoGoクラブ
END:VEVENT
BEGIN:VEVENT
DTSTART;TZID=Asia/Tokyo:20240904T093000
DTEND;TZID=Asia/Tokyo:20240904T093000
DTSTAMP:20260422T042333
CREATED:20260117T220859Z
LAST-MODIFIED:20260117T221209Z
UID:1580-1725442200-1725442200@k-tentou.jp
SUMMARY:青葉GoGoクラブ
DESCRIPTION:
URL:https://k-tentou.jp/event/%e9%9d%92%e8%91%89gogo%e3%82%af%e3%83%a9%e3%83%96-32/
LOCATION:たまプラーザ地域ケアプラザ\, 石川２丁目１−１５ たまプラーザテラスリンクプラザ 4F\, 横浜市青葉区\, 神奈川県\, 225-0003\, Japan
CATEGORIES:青葉GoGoクラブ
END:VEVENT
BEGIN:VEVENT
DTSTART;TZID=Asia/Tokyo:20240828T093000
DTEND;TZID=Asia/Tokyo:20240828T093000
DTSTAMP:20260422T042333
CREATED:20260117T220858Z
LAST-MODIFIED:20260117T221209Z
UID:1576-1724837400-1724837400@k-tentou.jp
SUMMARY:青葉GoGoクラブ
DESCRIPTION:
URL:https://k-tentou.jp/event/%e9%9d%92%e8%91%89gogo%e3%82%af%e3%83%a9%e3%83%96-31/
LOCATION:たまプラーザ地域ケアプラザ\, 石川２丁目１−１５ たまプラーザテラスリンクプラザ 4F\, 横浜市青葉区\, 神奈川県\, 225-0003\, Japan
CATEGORIES:青葉GoGoクラブ
END:VEVENT
BEGIN:VEVENT
DTSTART;TZID=Asia/Tokyo:20240821T093000
DTEND;TZID=Asia/Tokyo:20240821T093000
DTSTAMP:20260422T042333
CREATED:20260117T220858Z
LAST-MODIFIED:20260117T221209Z
UID:1575-1724232600-1724232600@k-tentou.jp
SUMMARY:青葉GoGoクラブ
DESCRIPTION:
URL:https://k-tentou.jp/event/%e9%9d%92%e8%91%89gogo%e3%82%af%e3%83%a9%e3%83%96-30/
LOCATION:たまプラーザ地域ケアプラザ\, 石川２丁目１−１５ たまプラーザテラスリンクプラザ 4F\, 横浜市青葉区\, 神奈川県\, 225-0003\, Japan
CATEGORIES:青葉GoGoクラブ
END:VEVENT
BEGIN:VEVENT
DTSTART;TZID=Asia/Tokyo:20240807T093000
DTEND;TZID=Asia/Tokyo:20240807T093000
DTSTAMP:20260422T042333
CREATED:20260117T220856Z
LAST-MODIFIED:20260117T221209Z
UID:1571-1723023000-1723023000@k-tentou.jp
SUMMARY:青葉GoGoクラブ
DESCRIPTION:
URL:https://k-tentou.jp/event/%e9%9d%92%e8%91%89gogo%e3%82%af%e3%83%a9%e3%83%96-29/
LOCATION:たまプラーザ地域ケアプラザ\, 石川２丁目１−１５ たまプラーザテラスリンクプラザ 4F\, 横浜市青葉区\, 神奈川県\, 225-0003\, Japan
CATEGORIES:青葉GoGoクラブ
END:VEVENT
BEGIN:VEVENT
DTSTART;TZID=Asia/Tokyo:20240731T093000
DTEND;TZID=Asia/Tokyo:20240731T093000
DTSTAMP:20260422T042333
CREATED:20260117T220853Z
LAST-MODIFIED:20260117T221209Z
UID:1568-1722418200-1722418200@k-tentou.jp
SUMMARY:青葉GoGoクラブ
DESCRIPTION:
URL:https://k-tentou.jp/event/%e9%9d%92%e8%91%89gogo%e3%82%af%e3%83%a9%e3%83%96-28/
LOCATION:たまプラーザ地域ケアプラザ\, 石川２丁目１−１５ たまプラーザテラスリンクプラザ 4F\, 横浜市青葉区\, 神奈川県\, 225-0003\, Japan
CATEGORIES:青葉GoGoクラブ
END:VEVENT
BEGIN:VEVENT
DTSTART;TZID=Asia/Tokyo:20240724T093000
DTEND;TZID=Asia/Tokyo:20240724T093000
DTSTAMP:20260422T042333
CREATED:20260117T220853Z
LAST-MODIFIED:20260117T221209Z
UID:1566-1721813400-1721813400@k-tentou.jp
SUMMARY:青葉GoGoクラブ
DESCRIPTION:
URL:https://k-tentou.jp/event/%e9%9d%92%e8%91%89gogo%e3%82%af%e3%83%a9%e3%83%96-27/
LOCATION:たまプラーザ地域ケアプラザ\, 石川２丁目１−１５ たまプラーザテラスリンクプラザ 4F\, 横浜市青葉区\, 神奈川県\, 225-0003\, Japan
CATEGORIES:青葉GoGoクラブ
END:VEVENT
BEGIN:VEVENT
DTSTART;TZID=Asia/Tokyo:20240717T093000
DTEND;TZID=Asia/Tokyo:20240717T093000
DTSTAMP:20260422T042333
CREATED:20260117T220848Z
LAST-MODIFIED:20260117T221209Z
UID:1563-1721208600-1721208600@k-tentou.jp
SUMMARY:青葉GoGoクラブ
DESCRIPTION:
URL:https://k-tentou.jp/event/%e9%9d%92%e8%91%89gogo%e3%82%af%e3%83%a9%e3%83%96-26/
LOCATION:たまプラーザ地域ケアプラザ\, 石川２丁目１−１５ たまプラーザテラスリンクプラザ 4F\, 横浜市青葉区\, 神奈川県\, 225-0003\, Japan
CATEGORIES:青葉GoGoクラブ
END:VEVENT
BEGIN:VEVENT
DTSTART;TZID=Asia/Tokyo:20240710T093000
DTEND;TZID=Asia/Tokyo:20240710T093000
DTSTAMP:20260422T042333
CREATED:20260117T220848Z
LAST-MODIFIED:20260117T221209Z
UID:1560-1720603800-1720603800@k-tentou.jp
SUMMARY:青葉GoGoクラブ
DESCRIPTION:
URL:https://k-tentou.jp/event/%e9%9d%92%e8%91%89gogo%e3%82%af%e3%83%a9%e3%83%96-25/
LOCATION:たまプラーザ地域ケアプラザ\, 石川２丁目１−１５ たまプラーザテラスリンクプラザ 4F\, 横浜市青葉区\, 神奈川県\, 225-0003\, Japan
CATEGORIES:青葉GoGoクラブ
END:VEVENT
BEGIN:VEVENT
DTSTART;TZID=Asia/Tokyo:20240703T093000
DTEND;TZID=Asia/Tokyo:20240703T093000
DTSTAMP:20260422T042333
CREATED:20260117T220848Z
LAST-MODIFIED:20260117T221209Z
UID:1559-1719999000-1719999000@k-tentou.jp
SUMMARY:青葉GoGoクラブ
DESCRIPTION:
URL:https://k-tentou.jp/event/%e9%9d%92%e8%91%89gogo%e3%82%af%e3%83%a9%e3%83%96-24/
LOCATION:たまプラーザ地域ケアプラザ\, 石川２丁目１−１５ たまプラーザテラスリンクプラザ 4F\, 横浜市青葉区\, 神奈川県\, 225-0003\, Japan
CATEGORIES:青葉GoGoクラブ
END:VEVENT
BEGIN:VEVENT
DTSTART;TZID=Asia/Tokyo:20240626T093000
DTEND;TZID=Asia/Tokyo:20240626T093000
DTSTAMP:20260422T042333
CREATED:20260117T220843Z
LAST-MODIFIED:20260117T221209Z
UID:1556-1719394200-1719394200@k-tentou.jp
SUMMARY:青葉GoGoクラブ
DESCRIPTION:
URL:https://k-tentou.jp/event/%e9%9d%92%e8%91%89gogo%e3%82%af%e3%83%a9%e3%83%96-23/
LOCATION:たまプラーザ地域ケアプラザ\, 石川２丁目１−１５ たまプラーザテラスリンクプラザ 4F\, 横浜市青葉区\, 神奈川県\, 225-0003\, Japan
CATEGORIES:青葉GoGoクラブ
END:VEVENT
BEGIN:VEVENT
DTSTART;TZID=Asia/Tokyo:20240619T093000
DTEND;TZID=Asia/Tokyo:20240619T093000
DTSTAMP:20260422T042333
CREATED:20260117T220843Z
LAST-MODIFIED:20260117T221209Z
UID:1554-1718789400-1718789400@k-tentou.jp
SUMMARY:青葉GoGoクラブ
DESCRIPTION:
URL:https://k-tentou.jp/event/%e9%9d%92%e8%91%89gogo%e3%82%af%e3%83%a9%e3%83%96-22/
LOCATION:たまプラーザ地域ケアプラザ\, 石川２丁目１−１５ たまプラーザテラスリンクプラザ 4F\, 横浜市青葉区\, 神奈川県\, 225-0003\, Japan
CATEGORIES:青葉GoGoクラブ
END:VEVENT
BEGIN:VEVENT
DTSTART;TZID=Asia/Tokyo:20240612T093000
DTEND;TZID=Asia/Tokyo:20240612T093000
DTSTAMP:20260422T042333
CREATED:20260117T220841Z
LAST-MODIFIED:20260117T221209Z
UID:1550-1718184600-1718184600@k-tentou.jp
SUMMARY:青葉GoGoクラブ
DESCRIPTION:
URL:https://k-tentou.jp/event/%e9%9d%92%e8%91%89gogo%e3%82%af%e3%83%a9%e3%83%96-21/
LOCATION:たまプラーザ地域ケアプラザ\, 石川２丁目１−１５ たまプラーザテラスリンクプラザ 4F\, 横浜市青葉区\, 神奈川県\, 225-0003\, Japan
CATEGORIES:青葉GoGoクラブ
END:VEVENT
BEGIN:VEVENT
DTSTART;TZID=Asia/Tokyo:20240605T093000
DTEND;TZID=Asia/Tokyo:20240605T093000
DTSTAMP:20260422T042333
CREATED:20260117T220839Z
LAST-MODIFIED:20260117T221209Z
UID:1548-1717579800-1717579800@k-tentou.jp
SUMMARY:青葉GoGoクラブ
DESCRIPTION:
URL:https://k-tentou.jp/event/%e9%9d%92%e8%91%89gogo%e3%82%af%e3%83%a9%e3%83%96-20/
LOCATION:たまプラーザ地域ケアプラザ\, 石川２丁目１−１５ たまプラーザテラスリンクプラザ 4F\, 横浜市青葉区\, 神奈川県\, 225-0003\, Japan
CATEGORIES:青葉GoGoクラブ
END:VEVENT
BEGIN:VEVENT
DTSTART;TZID=Asia/Tokyo:20240529T093000
DTEND;TZID=Asia/Tokyo:20240529T093000
DTSTAMP:20260422T042333
CREATED:20260117T220839Z
LAST-MODIFIED:20260117T220839Z
UID:1545-1716975000-1716975000@k-tentou.jp
SUMMARY:青葉GoGoクラブ
DESCRIPTION:
URL:https://k-tentou.jp/event/%e9%9d%92%e8%91%89gogo%e3%82%af%e3%83%a9%e3%83%96-19/
LOCATION:たまプラーザ地域ケアプラザ\, 石川２丁目１−１５ たまプラーザテラスリンクプラザ 4F\, 横浜市青葉区\, 神奈川県\, 225-0003\, Japan
CATEGORIES:青葉GoGoクラブ
END:VEVENT
BEGIN:VEVENT
DTSTART;TZID=Asia/Tokyo:20240522T093000
DTEND;TZID=Asia/Tokyo:20240522T093000
DTSTAMP:20260422T042333
CREATED:20260117T220839Z
LAST-MODIFIED:20260117T220839Z
UID:1544-1716370200-1716370200@k-tentou.jp
SUMMARY:青葉GoGoクラブ
DESCRIPTION:
URL:https://k-tentou.jp/event/%e9%9d%92%e8%91%89gogo%e3%82%af%e3%83%a9%e3%83%96-18/
LOCATION:たまプラーザ地域ケアプラザ\, 石川２丁目１−１５ たまプラーザテラスリンクプラザ 4F\, 横浜市青葉区\, 神奈川県\, 225-0003\, Japan
CATEGORIES:青葉GoGoクラブ
END:VEVENT
BEGIN:VEVENT
DTSTART;TZID=Asia/Tokyo:20240515T093000
DTEND;TZID=Asia/Tokyo:20240515T093000
DTSTAMP:20260422T042333
CREATED:20260117T220755Z
LAST-MODIFIED:20260117T220755Z
UID:1542-1715765400-1715765400@k-tentou.jp
SUMMARY:青葉GoGoクラブ
DESCRIPTION:
URL:https://k-tentou.jp/event/%e9%9d%92%e8%91%89gogo%e3%82%af%e3%83%a9%e3%83%96-17/
LOCATION:たまプラーザ地域ケアプラザ\, 石川２丁目１−１５ たまプラーザテラスリンクプラザ 4F\, 横浜市青葉区\, 神奈川県\, 225-0003\, Japan
CATEGORIES:青葉GoGoクラブ
END:VEVENT
BEGIN:VEVENT
DTSTART;TZID=Asia/Tokyo:20240508T093000
DTEND;TZID=Asia/Tokyo:20240508T093000
DTSTAMP:20260422T042333
CREATED:20260117T220754Z
LAST-MODIFIED:20260117T220754Z
UID:1539-1715160600-1715160600@k-tentou.jp
SUMMARY:青葉GoGoクラブ
DESCRIPTION:
URL:https://k-tentou.jp/event/%e9%9d%92%e8%91%89gogo%e3%82%af%e3%83%a9%e3%83%96-16/
LOCATION:たまプラーザ地域ケアプラザ\, 石川２丁目１−１５ たまプラーザテラスリンクプラザ 4F\, 横浜市青葉区\, 神奈川県\, 225-0003\, Japan
CATEGORIES:青葉GoGoクラブ
END:VEVENT
BEGIN:VEVENT
DTSTART;TZID=Asia/Tokyo:20240424T093000
DTEND;TZID=Asia/Tokyo:20240424T093000
DTSTAMP:20260422T042333
CREATED:20260117T220744Z
LAST-MODIFIED:20260117T220744Z
UID:1535-1713951000-1713951000@k-tentou.jp
SUMMARY:青葉GoGoクラブ
DESCRIPTION:
URL:https://k-tentou.jp/event/%e9%9d%92%e8%91%89gogo%e3%82%af%e3%83%a9%e3%83%96-15/
LOCATION:たまプラーザ地域ケアプラザ\, 石川２丁目１−１５ たまプラーザテラスリンクプラザ 4F\, 横浜市青葉区\, 神奈川県\, 225-0003\, Japan
CATEGORIES:青葉GoGoクラブ
END:VEVENT
BEGIN:VEVENT
DTSTART;TZID=Asia/Tokyo:20240417T093000
DTEND;TZID=Asia/Tokyo:20240417T093000
DTSTAMP:20260422T042333
CREATED:20260117T220735Z
LAST-MODIFIED:20260117T220735Z
UID:1533-1713346200-1713346200@k-tentou.jp
SUMMARY:青葉GoGoクラブ
DESCRIPTION:
URL:https://k-tentou.jp/event/%e9%9d%92%e8%91%89gogo%e3%82%af%e3%83%a9%e3%83%96-14/
LOCATION:たまプラーザ地域ケアプラザ\, 石川２丁目１−１５ たまプラーザテラスリンクプラザ 4F\, 横浜市青葉区\, 神奈川県\, 225-0003\, Japan
CATEGORIES:青葉GoGoクラブ
END:VEVENT
END:VCALENDAR